BEGIN:VCALENDAR
VERSION:2.0
PRODID:-//SUN CITY ANTHEM HIKING CLUB - ECPv6.15.15//NONSGML v1.0//EN
CALSCALE:GREGORIAN
METHOD:PUBLISH
X-WR-CALNAME:SUN CITY ANTHEM HIKING CLUB
X-ORIGINAL-URL:https://suncityanthemhikingclub.com
X-WR-CALDESC:Events for SUN CITY ANTHEM HIKING CLUB
REFRESH-INTERVAL;VALUE=DURATION:PT1H
X-Robots-Tag:noindex
X-PUBLISHED-TTL:PT1H
BEGIN:VTIMEZONE
TZID:America/Phoenix
BEGIN:STANDARD
TZOFFSETFROM:-0700
TZOFFSETTO:-0700
TZNAME:MST
DTSTART:20260101T000000
END:STANDARD
END:VTIMEZONE
BEGIN:VEVENT
DTSTART;TZID=America/Phoenix:20270106T071500
DTEND;TZID=America/Phoenix:20270106T170000
DTSTAMP:20260419T063507
CREATED:20260327T202113Z
LAST-MODIFIED:20260327T202113Z
UID:10002563-1799219700-1799254800@suncityanthemhikingclub.com
SUMMARY:Romero Pools (UI) - Jan. 6\,2027
DESCRIPTION:Hike Detail Page
URL:https://suncityanthemhikingclub.com/hikes/romero-pools-ui-jan-62027/
LOCATION:Romero Pools\, AZ\, 85132\, United States
CATEGORIES:Upper Intermediate Hikes
ORGANIZER;CN="Brian Mangold":MAILTO:bcmangold@gmail.com
GEO:32.425683;-110.907976
END:VEVENT
BEGIN:VEVENT
DTSTART;TZID=America/Phoenix:20270106T074500
DTEND;TZID=America/Phoenix:20270106T170000
DTSTAMP:20260419T063507
CREATED:20260327T201713Z
LAST-MODIFIED:20260327T201713Z
UID:10002562-1799221500-1799254800@suncityanthemhikingclub.com
SUMMARY:AZT - Florence Kelvin Rd South (CI) - Jan. 6\,2027
DESCRIPTION:Hike Detail Page
URL:https://suncityanthemhikingclub.com/hikes/azt-florence-kelvin-rd-south-ci-jan-62027/
LOCATION:AZT-Kelvin South\, AZ\, 85132\, United States
CATEGORIES:Casual Intermediate Hikes
ORGANIZER;CN="Greg Waterman":MAILTO:gregh2oman@gmail.com
GEO:33.0893;-110.98989
END:VEVENT
BEGIN:VEVENT
DTSTART;TZID=America/Phoenix:20270106T080000
DTEND;TZID=America/Phoenix:20270106T170000
DTSTAMP:20260419T063507
CREATED:20260327T201426Z
LAST-MODIFIED:20260327T201426Z
UID:10002561-1799222400-1799254800@suncityanthemhikingclub.com
SUMMARY:Arnett Canyon Trail (S) - Jan. 6\,2027
DESCRIPTION:Hike Detail Page
URL:https://suncityanthemhikingclub.com/hikes/arnett-canyon-trail-s-jan-62027/
LOCATION:Arnett Canyon\, AZ\, 85132\, United States
CATEGORIES:Short Hikes
ORGANIZER;CN="Jack Dale":MAILTO:jack@myhd.us
GEO:33.272654;-111.177004
END:VEVENT
BEGIN:VEVENT
DTSTART;TZID=America/Phoenix:20270111T160000
DTEND;TZID=America/Phoenix:20270111T180000
DTSTAMP:20260419T063507
CREATED:20260327T204548Z
LAST-MODIFIED:20260327T204548Z
UID:10002573-1799683200-1799690400@suncityanthemhikingclub.com
SUMMARY:Board Meeting - Jan. 11\,2027
DESCRIPTION:
URL:https://suncityanthemhikingclub.com/hikes/board-meeting-jan-112027/
LOCATION:Cushman Conference Room
CATEGORIES:Exec and Steering,Meetings
END:VEVENT
BEGIN:VEVENT
DTSTART;TZID=America/Phoenix:20270113T070000
DTEND;TZID=America/Phoenix:20270113T170000
DTSTAMP:20260419T063507
CREATED:20260327T203722Z
LAST-MODIFIED:20260327T203853Z
UID:10002567-1799823600-1799859600@suncityanthemhikingclub.com
SUMMARY:Tortolita Mountain Loop (A) - Jan. 13\,2027
DESCRIPTION:Hike Detail Page
URL:https://suncityanthemhikingclub.com/hikes/tortolita-mountain-loop-a-jan-132027/
LOCATION:Tortolita Mountains
CATEGORIES:Advanced Hikes
ORGANIZER;CN="Chase Caldwell":MAILTO:chasecaldwellrealtor@gmail.com
END:VEVENT
BEGIN:VEVENT
DTSTART;TZID=America/Phoenix:20270113T073000
DTEND;TZID=America/Phoenix:20270113T170000
DTSTAMP:20260419T063507
CREATED:20260327T203339Z
LAST-MODIFIED:20260327T203339Z
UID:10002566-1799825400-1799859600@suncityanthemhikingclub.com
SUMMARY:Devil's Canyon Trail (I) - Jan. 13\,2027
DESCRIPTION:Hike Detail Page
URL:https://suncityanthemhikingclub.com/hikes/devils-canyon-trail-i-jan-132027/
LOCATION:Devils Canyon Trail\, AZ\, 85132\, United States
CATEGORIES:Intermediate Hikes
ORGANIZER;CN="Greg Waterman":MAILTO:gregh2oman@gmail.com
GEO:33.30865;-111.0512
END:VEVENT
BEGIN:VEVENT
DTSTART;TZID=America/Phoenix:20270113T074500
DTEND;TZID=America/Phoenix:20270113T170000
DTSTAMP:20260419T063507
CREATED:20260327T203031Z
LAST-MODIFIED:20260327T203031Z
UID:10002565-1799826300-1799859600@suncityanthemhikingclub.com
SUMMARY:Arnett Canyon - Telegraph Canyon (CI) - Jan. 13\,2027
DESCRIPTION:Hike Detail Page
URL:https://suncityanthemhikingclub.com/hikes/arnett-canyon-telegraph-canyon-ci-jan-132027/
LOCATION:Arnett Canyon\, AZ\, 85132\, United States
CATEGORIES:Casual Intermediate Hikes
ORGANIZER;CN="Pat Walker":MAILTO:pvnat@walkerseamless.com
GEO:33.272654;-111.177004
END:VEVENT
BEGIN:VEVENT
DTSTART;TZID=America/Phoenix:20270113T080000
DTEND;TZID=America/Phoenix:20270113T170000
DTSTAMP:20260419T063507
CREATED:20260327T202515Z
LAST-MODIFIED:20260327T202515Z
UID:10002564-1799827200-1799859600@suncityanthemhikingclub.com
SUMMARY:FIRST WATER TO INDIAN RUINS (S) - Jan 13\,2027
DESCRIPTION:Hike Detail Page
URL:https://suncityanthemhikingclub.com/hikes/first-water-to-indian-ruins-s-jan-132027/
LOCATION:First Water
CATEGORIES:Short Hikes
ORGANIZER;CN="Tom Hauge":MAILTO:t.hauge@yahoo.com
END:VEVENT
BEGIN:VEVENT
DTSTART;TZID=America/Phoenix:20270118T163000
DTEND;TZID=America/Phoenix:20270118T190000
DTSTAMP:20260419T063507
CREATED:20260328T203631Z
LAST-MODIFIED:20260330T202917Z
UID:10002574-1800289800-1800298800@suncityanthemhikingclub.com
SUMMARY:Potluck - Jan 18\,2027
DESCRIPTION:Details coming
URL:https://suncityanthemhikingclub.com/hikes/potluck-jan-182027/
LOCATION:Union Center Ballroom\, AZ\, 85132\, United States
CATEGORIES:Social Event
END:VEVENT
END:VCALENDAR