BEGIN:VCALENDAR
VERSION:2.0
PRODID:-//SUN CITY ANTHEM HIKING CLUB - ECPv6.15.15//NONSGML v1.0//EN
CALSCALE:GREGORIAN
METHOD:PUBLISH
X-WR-CALNAME:SUN CITY ANTHEM HIKING CLUB
X-ORIGINAL-URL:https://suncityanthemhikingclub.com
X-WR-CALDESC:Events for SUN CITY ANTHEM HIKING CLUB
REFRESH-INTERVAL;VALUE=DURATION:PT1H
X-Robots-Tag:noindex
X-PUBLISHED-TTL:PT1H
BEGIN:VTIMEZONE
TZID:America/Phoenix
BEGIN:STANDARD
TZOFFSETFROM:-0700
TZOFFSETTO:-0700
TZNAME:MST
DTSTART:20250101T000000
END:STANDARD
END:VTIMEZONE
BEGIN:VEVENT
DTSTART;TZID=America/Phoenix:20261202T071500
DTEND;TZID=America/Phoenix:20261202T170000
DTSTAMP:20260419T052402
CREATED:20260323T195847Z
LAST-MODIFIED:20260324T184229Z
UID:10002550-1796195700-1796230800@suncityanthemhikingclub.com
SUMMARY:Massacre Grounds (UI) - Dec. 2\,2026
DESCRIPTION:Hike Detail Page
URL:https://suncityanthemhikingclub.com/hikes/massacre-grounds-ui-dec-22026/
LOCATION:Massacre Grounds\, AZ\, 85132\, United States
CATEGORIES:Upper Intermediate Hikes
ORGANIZER;CN="Ken Bobey":MAILTO:aapl87-pb@yahoo.com
GEO:33.4715;-111.46927
END:VEVENT
BEGIN:VEVENT
DTSTART;TZID=America/Phoenix:20261202T074500
DTEND;TZID=America/Phoenix:20261202T170000
DTSTAMP:20260419T052402
CREATED:20260323T195523Z
LAST-MODIFIED:20260324T180147Z
UID:10002549-1796197500-1796230800@suncityanthemhikingclub.com
SUMMARY:Arnett Canyon Trail (CI) - Dec. 2\,2026
DESCRIPTION:Hike Detail Page
URL:https://suncityanthemhikingclub.com/hikes/arnett-canyon-trail-ci-dec-22026/
LOCATION:Arnett Canyon\, AZ\, 85132\, United States
CATEGORIES:Casual Intermediate Hikes
ORGANIZER;CN="Brian Mangold":MAILTO:bcmangold@gmail.com
GEO:33.272654;-111.177004
END:VEVENT
BEGIN:VEVENT
DTSTART;TZID=America/Phoenix:20261202T080000
DTEND;TZID=America/Phoenix:20261202T170000
DTSTAMP:20260419T052402
CREATED:20260323T195117Z
LAST-MODIFIED:20260323T195117Z
UID:10002548-1796198400-1796230800@suncityanthemhikingclub.com
SUMMARY:Box Canyon (S) - Dec. 2\,2026
DESCRIPTION:Hike Detail Page
URL:https://suncityanthemhikingclub.com/hikes/box-canyon-s-dec-22026/
LOCATION:Box Canyon\, AZ\, 85132\, United States
CATEGORIES:Short Hikes
ORGANIZER;CN="Bill Smith":MAILTO:1pianomover@gmail.com
GEO:33.1308;-111.20555
END:VEVENT
BEGIN:VEVENT
DTSTART;TZID=America/Phoenix:20261207T030000
DTEND;TZID=America/Phoenix:20261207T170000
DTSTAMP:20260419T052402
CREATED:20260228T201550Z
LAST-MODIFIED:20260228T201550Z
UID:10002519-1796612400-1796662800@suncityanthemhikingclub.com
SUMMARY:General Membership Meeting - Dec 7\,2026
DESCRIPTION:Ballroom
URL:https://suncityanthemhikingclub.com/hikes/general-membership-meeting-dec-72026/
LOCATION:Union Center Ballroom\, AZ\, 85132\, United States
CATEGORIES:General Club Meeting,Meetings
END:VEVENT
BEGIN:VEVENT
DTSTART;TZID=America/Phoenix:20261209T071500
DTEND;TZID=America/Phoenix:20261209T170000
DTSTAMP:20260419T052402
CREATED:20260324T180735Z
LAST-MODIFIED:20260324T180735Z
UID:10002553-1796800500-1796835600@suncityanthemhikingclub.com
SUMMARY:Black Mesa Loop (UI) - Dec. 9\,2026
DESCRIPTION:Hike Detail Page
URL:https://suncityanthemhikingclub.com/hikes/black-mesa-loop-ui-dec-92026/
LOCATION:Black Mesa Loop\, AZ\, 85132\, United States
CATEGORIES:Upper Intermediate Hikes
ORGANIZER;CN="Tracy Mecum":MAILTO:metr7790@outlook.com
GEO:33.480282;-111.443075
END:VEVENT
BEGIN:VEVENT
DTSTART;TZID=America/Phoenix:20261209T074500
DTEND;TZID=America/Phoenix:20261209T170000
DTSTAMP:20260419T052402
CREATED:20260324T180452Z
LAST-MODIFIED:20260324T180823Z
UID:10002552-1796802300-1796835600@suncityanthemhikingclub.com
SUMMARY:FAT MAN’S PASS & NATURAL TUNNEL VIA MORMON TRAIL (CI) - Dec. 9\,2026
DESCRIPTION:Hike Detail Page
URL:https://suncityanthemhikingclub.com/hikes/fat-mans-pass-natural-tunnel-via-mormon-trail-ci-dec-92026/
LOCATION:Fat Man Pass\, AZ\, 85132\, United States
CATEGORIES:Casual Intermediate Hikes
ORGANIZER;CN="Chris Manss":MAILTO:chrisbub23@hotmail.com
GEO:33.362762;-111.98526
END:VEVENT
BEGIN:VEVENT
DTSTART;TZID=America/Phoenix:20261209T080000
DTEND;TZID=America/Phoenix:20261209T170000
DTSTAMP:20260419T052402
CREATED:20260324T175500Z
LAST-MODIFIED:20260324T175500Z
UID:10002551-1796803200-1796835600@suncityanthemhikingclub.com
SUMMARY:SIPHON DRAW VIEWS (S) - Dec. 9\,2026
DESCRIPTION:Hike Detail Page
URL:https://suncityanthemhikingclub.com/hikes/siphon-draw-views-s-dec-92026/
LOCATION:Siphon Draw\, AZ\, 85132\, United States
CATEGORIES:Short Hikes
ORGANIZER;CN="Max Plattner":MAILTO:mishmax@olypen.com
GEO:33.459712;-111.478061
END:VEVENT
BEGIN:VEVENT
DTSTART;TZID=America/Phoenix:20261214T160000
DTEND;TZID=America/Phoenix:20261214T180000
DTSTAMP:20260419T052402
CREATED:20260228T201236Z
LAST-MODIFIED:20260228T201236Z
UID:10002516-1797264000-1797271200@suncityanthemhikingclub.com
SUMMARY:Board Meeting - Dec 14\,2026
DESCRIPTION:
URL:https://suncityanthemhikingclub.com/hikes/board-meeting-dec-142026/
LOCATION:Cushman Conference Room
CATEGORIES:Exec and Steering,Meetings
END:VEVENT
BEGIN:VEVENT
DTSTART;TZID=America/Phoenix:20261216T070000
DTEND;TZID=America/Phoenix:20261216T170000
DTSTAMP:20260419T052402
CREATED:20260324T182812Z
LAST-MODIFIED:20260324T182812Z
UID:10002557-1797404400-1797440400@suncityanthemhikingclub.com
SUMMARY:Siphon Draw to Flat Iron (A) - Dec. 16\,2026
DESCRIPTION:Hike Detail Page
URL:https://suncityanthemhikingclub.com/hikes/siphon-draw-to-flat-iron-a-dec-162026/
LOCATION:Siphon Draw\, AZ\, 85132\, United States
CATEGORIES:Advanced Hikes
ORGANIZER;CN="Chase Caldwell":MAILTO:chasecaldwellrealtor@gmail.com
GEO:33.459712;-111.478061
END:VEVENT
BEGIN:VEVENT
DTSTART;TZID=America/Phoenix:20261216T073000
DTEND;TZID=America/Phoenix:20261216T170000
DTSTAMP:20260419T052402
CREATED:20260324T182037Z
LAST-MODIFIED:20260324T182037Z
UID:10002556-1797406200-1797440400@suncityanthemhikingclub.com
SUMMARY:Apache Leap (I) - Dec. 16\,2026
DESCRIPTION:Hike Detail Page
URL:https://suncityanthemhikingclub.com/hikes/apache-leap-i-dec-162026/
LOCATION:Apache Leap\, AZ\, United States
CATEGORIES:Intermediate Hikes
ORGANIZER;CN="Jim Veire":MAILTO:jim.veire.03@gmail.com
GEO:32.28819;-111.05971
END:VEVENT
BEGIN:VEVENT
DTSTART;TZID=America/Phoenix:20261216T074500
DTEND;TZID=America/Phoenix:20261216T170000
DTSTAMP:20260419T052402
CREATED:20260324T181610Z
LAST-MODIFIED:20260324T181610Z
UID:10002555-1797407100-1797440400@suncityanthemhikingclub.com
SUMMARY:Wind Cave (CI) - Dec. 16\,2026
DESCRIPTION:Hike Detail Page
URL:https://suncityanthemhikingclub.com/hikes/wind-cave-ci-dec-162026/
LOCATION:Wind Cave\, AZ\, 85132\, United States
CATEGORIES:Casual Intermediate Hikes
ORGANIZER;CN="Nancy Cook":MAILTO:cookie7002@gmail.com
GEO:33.474024;-111.607249
END:VEVENT
BEGIN:VEVENT
DTSTART;TZID=America/Phoenix:20261216T080000
DTEND;TZID=America/Phoenix:20261216T170000
DTSTAMP:20260419T052402
CREATED:20260324T181200Z
LAST-MODIFIED:20260324T181200Z
UID:10002554-1797408000-1797440400@suncityanthemhikingclub.com
SUMMARY:AZT - Florence Kelvin Rd South (S) - Dec. 16\,2026
DESCRIPTION:Hike Detail Page
URL:https://suncityanthemhikingclub.com/hikes/azt-florence-kelvin-rd-south-s-dec-162026/
LOCATION:AZT-Kelvin South\, AZ\, 85132\, United States
CATEGORIES:Short Hikes
ORGANIZER;CN="Dave Dobmeier":MAILTO:davidddobmeier@yahoo.com
GEO:33.0893;-110.98989
END:VEVENT
BEGIN:VEVENT
DTSTART;TZID=America/Phoenix:20261230T071500
DTEND;TZID=America/Phoenix:20261230T170000
DTSTAMP:20260419T052402
CREATED:20260324T184039Z
LAST-MODIFIED:20260324T184039Z
UID:10002560-1798614900-1798650000@suncityanthemhikingclub.com
SUMMARY:Ventana Canyon to Maiden Pools (UI) - Dec. 30\,2026
DESCRIPTION:Hike Detail Page
URL:https://suncityanthemhikingclub.com/hikes/ventana-canyon-to-maiden-pools-ui-dec-302026/
LOCATION:Ventana Canyon – Maiden Pools\, AZ\, 85132\, United States
CATEGORIES:Upper Intermediate Hikes
ORGANIZER;CN="Erin Downey":MAILTO:erindowney1@me.com
GEO:32.327997;-110.853035
END:VEVENT
BEGIN:VEVENT
DTSTART;TZID=America/Phoenix:20261230T074500
DTEND;TZID=America/Phoenix:20261230T170000
DTSTAMP:20260419T052402
CREATED:20260324T183727Z
LAST-MODIFIED:20260324T183727Z
UID:10002559-1798616700-1798650000@suncityanthemhikingclub.com
SUMMARY:Butcher Jones Trail\, Saguaro Lake (CI) - Dec 30\,2026
DESCRIPTION:Hike Detail Page
URL:https://suncityanthemhikingclub.com/hikes/butcher-jones-trail-saguaro-lake-ci-dec-302026/
LOCATION:Butcher Jones Trail\, AZ\, 85132\, United States
CATEGORIES:Casual Intermediate Hikes
ORGANIZER;CN="Max Plattner":MAILTO:mishmax@olypen.com
GEO:33.575597;-111.514405
END:VEVENT
BEGIN:VEVENT
DTSTART;TZID=America/Phoenix:20261230T080000
DTEND;TZID=America/Phoenix:20261230T170000
DTSTAMP:20260419T052402
CREATED:20260324T183355Z
LAST-MODIFIED:20260324T183355Z
UID:10002558-1798617600-1798650000@suncityanthemhikingclub.com
SUMMARY:San Tan - San Tan Trail Loop (S) - Dec. 30\,2026
DESCRIPTION:Hike Detail Page
URL:https://suncityanthemhikingclub.com/hikes/san-tan-san-tan-trail-loop-s-dec-302026/
LOCATION:San Tan Trail\, AZ\, 85132\, United States
CATEGORIES:Short Hikes
ORGANIZER;CN="Patrick Dwyer":MAILTO:p_pal_d@yahoo.com
GEO:33.167889;-111.635905
END:VEVENT
END:VCALENDAR