BEGIN:VCALENDAR
VERSION:2.0
PRODID:-//SUN CITY ANTHEM HIKING CLUB - ECPv6.15.15//NONSGML v1.0//EN
CALSCALE:GREGORIAN
METHOD:PUBLISH
X-ORIGINAL-URL:https://suncityanthemhikingclub.com
X-WR-CALDESC:Events for SUN CITY ANTHEM HIKING CLUB
REFRESH-INTERVAL;VALUE=DURATION:PT1H
X-Robots-Tag:noindex
X-PUBLISHED-TTL:PT1H
BEGIN:VTIMEZONE
TZID:America/Phoenix
BEGIN:STANDARD
TZOFFSETFROM:-0700
TZOFFSETTO:-0700
TZNAME:MST
DTSTART:20240101T000000
END:STANDARD
END:VTIMEZONE
BEGIN:VEVENT
DTSTART;TZID=America/Phoenix:20251201T073000
DTEND;TZID=America/Phoenix:20251201T120000
DTSTAMP:20260421T034423
CREATED:20251006T200731Z
LAST-MODIFIED:20251106T203638Z
UID:10002430-1764574200-1764590400@suncityanthemhikingclub.com
SUMMARY:Poston Butte (ALL) - Dec 1\,2025
DESCRIPTION:Hike Detail Page
URL:https://suncityanthemhikingclub.com/hikes/poston-butte-all-dec-12025/
LOCATION:Poston Butte\, AZ\, 85132\, United States
CATEGORIES:Special Hikes
ORGANIZER;CN="Martha Scott":MAILTO:mascott75@icloud.com
GEO:33.053692;-111.403837
END:VEVENT
BEGIN:VEVENT
DTSTART;TZID=America/Phoenix:20251201T150000
DTEND;TZID=America/Phoenix:20251201T160000
DTSTAMP:20260421T034423
CREATED:20250808T204237Z
LAST-MODIFIED:20250808T204237Z
UID:10002425-1764601200-1764604800@suncityanthemhikingclub.com
SUMMARY:General Membership Meeting - Dec 1\,2025
DESCRIPTION:Ballroom
URL:https://suncityanthemhikingclub.com/hikes/general-membership-meeting-dec-12025/
LOCATION:Union Center Ballroom\, AZ\, 85132\, United States
CATEGORIES:General Club Meeting,Meetings
END:VEVENT
BEGIN:VEVENT
DTSTART;TZID=America/Phoenix:20251203T071500
DTEND;TZID=America/Phoenix:20251203T170000
DTSTAMP:20260421T034423
CREATED:20250216T195758Z
LAST-MODIFIED:20250216T195758Z
UID:10002392-1764746100-1764781200@suncityanthemhikingclub.com
SUMMARY:First Water - Canyon Lake Key Exchange (UI) - Dec 3\,2025
DESCRIPTION:Hike Detail Page
URL:https://suncityanthemhikingclub.com/hikes/first-water-canyon-lake-key-exchange-ui-dec-32025/
LOCATION:First Water
CATEGORIES:Upper Intermediate Hikes
ORGANIZER;CN="Chase Caldwell":MAILTO:chasecaldwellrealtor@gmail.com
END:VEVENT
BEGIN:VEVENT
DTSTART;TZID=America/Phoenix:20251203T073000
DTEND;TZID=America/Phoenix:20251203T170000
DTSTAMP:20260421T034423
CREATED:20250216T195459Z
LAST-MODIFIED:20250216T195459Z
UID:10002391-1764747000-1764781200@suncityanthemhikingclub.com
SUMMARY:AZT - Hwy 60 North (I) - Dec 3\,2025
DESCRIPTION:Hike Detail Page
URL:https://suncityanthemhikingclub.com/hikes/azt-hwy-60-north-i-dec-32025/
LOCATION:AZT-Hwy 60 North\, AZ\, 85132\, United States
CATEGORIES:Intermediate Hikes
GEO:33.28271;-111.17649
END:VEVENT
BEGIN:VEVENT
DTSTART;TZID=America/Phoenix:20251203T074500
DTEND;TZID=America/Phoenix:20251203T170000
DTSTAMP:20260421T034423
CREATED:20251118T202346Z
LAST-MODIFIED:20251118T202346Z
UID:10002445-1764747900-1764781200@suncityanthemhikingclub.com
SUMMARY:AZT - Picketpost South (CI) - Dec 3\,2025
DESCRIPTION:Hike Detail Page
URL:https://suncityanthemhikingclub.com/hikes/azt-picketpost-south-ci-dec-32025/
LOCATION:AZT-Picketpost South\, AZ\, 85132\, United States
CATEGORIES:Casual Intermediate Hikes
ORGANIZER;CN="Martha Scott":MAILTO:mascott75@icloud.com
GEO:33.272654;-111.177004
END:VEVENT
BEGIN:VEVENT
DTSTART;TZID=America/Phoenix:20251203T080000
DTEND;TZID=America/Phoenix:20251203T170000
DTSTAMP:20260421T034423
CREATED:20251118T202031Z
LAST-MODIFIED:20251118T202031Z
UID:10002444-1764748800-1764781200@suncityanthemhikingclub.com
SUMMARY:Casa Grande Mountain Park (S) - Dec 3\,2025
DESCRIPTION:Hike Detail Page
URL:https://suncityanthemhikingclub.com/hikes/casa-grande-mountain-park-s-dec-32025/
LOCATION:Casa Grande Mountain Park\, AZ\, 85132\, United States
CATEGORIES:Short Hikes
ORGANIZER;CN="Dave Dobmeier":MAILTO:davidddobmeier@yahoo.com
GEO:32.83222;-111.711338
END:VEVENT
BEGIN:VEVENT
DTSTART;TZID=America/Phoenix:20251204T163000
DTEND;TZID=America/Phoenix:20251204T180000
DTSTAMP:20260421T034423
CREATED:20251110T012453Z
LAST-MODIFIED:20251110T012453Z
UID:10002441-1764865800-1764871200@suncityanthemhikingclub.com
SUMMARY:Hike Leader's Meeting - Dec 4\,2025
DESCRIPTION:
URL:https://suncityanthemhikingclub.com/hikes/hike-leaders-meeting-dec-42025/
LOCATION:Union  Center – Whitlow Room
CATEGORIES:Exec and Steering,Meetings
ORGANIZER;CN="Bruce Odegaard":MAILTO:bodegaard1@aol.com
END:VEVENT
BEGIN:VEVENT
DTSTART;TZID=America/Phoenix:20251208T073000
DTEND;TZID=America/Phoenix:20251208T120000
DTSTAMP:20260421T034423
CREATED:20251006T200852Z
LAST-MODIFIED:20251106T203917Z
UID:10002431-1765179000-1765195200@suncityanthemhikingclub.com
SUMMARY:Poston Butte (ALL) - Dec 8\,2025
DESCRIPTION:Hike Detail Page
URL:https://suncityanthemhikingclub.com/hikes/poston-butte-all-dec-82025/
LOCATION:Poston Butte\, AZ\, 85132\, United States
CATEGORIES:Special Hikes
ORGANIZER;CN="Martha Scott":MAILTO:mascott75@icloud.com
GEO:33.053692;-111.403837
END:VEVENT
BEGIN:VEVENT
DTSTART;TZID=America/Phoenix:20251208T074500
DTEND;TZID=America/Phoenix:20251208T170000
DTSTAMP:20260421T034423
CREATED:20251118T204652Z
LAST-MODIFIED:20251118T204652Z
UID:10002446-1765179900-1765213200@suncityanthemhikingclub.com
SUMMARY:The Wrath of Mother Nature - Dec 8\,2025
DESCRIPTION:Come out to see the damage the big October rainstorm caused in Arnett Creek. \nYou will be amazed at what water can do! You will see logs above you in the trees where the water was 15 to 20 feet deep. \n  \n5 Mile Key Exchange \n  \nTrucks will be provided-$10 contribution to driver for gas and truck wash. \n  \nBring hiking sticks\, large snack or lunch\, and water. \n  \nMeet at Union Center at 7:45am \n  \nLimit 20 hikers.
URL:https://suncityanthemhikingclub.com/hikes/the-wrath-of-mother-nature-dec-82025/
LOCATION:Arnett Canyon\, AZ\, 85132\, United States
CATEGORIES:Special Hikes
ORGANIZER;CN="Greg Waterman":MAILTO:gregh2oman@gmail.com
GEO:33.272654;-111.177004
END:VEVENT
BEGIN:VEVENT
DTSTART;TZID=America/Phoenix:20251210T071500
DTEND;TZID=America/Phoenix:20251210T170000
DTSTAMP:20260421T034423
CREATED:20250217T201926Z
LAST-MODIFIED:20251120T185651Z
UID:10002396-1765350900-1765386000@suncityanthemhikingclub.com
SUMMARY:PEPPERSAUCE CAVE (UI) - Dec 10\,2025
DESCRIPTION:Hike Detail Page
URL:https://suncityanthemhikingclub.com/hikes/peppersauce-cave-ui-dec-102025/
LOCATION:Peppersauce Cave
CATEGORIES:Upper Intermediate Hikes
ORGANIZER;CN="Bruce Odegaard":MAILTO:bodegaard1@aol.com
END:VEVENT
BEGIN:VEVENT
DTSTART;TZID=America/Phoenix:20251210T073000
DTEND;TZID=America/Phoenix:20251210T170000
DTSTAMP:20260421T034423
CREATED:20250215T200122Z
LAST-MODIFIED:20250406T160637Z
UID:10002379-1765351800-1765386000@suncityanthemhikingclub.com
SUMMARY:AZT - American Flag Ranch North (I) - Dec 10\,2025
DESCRIPTION:Hike Detail Page
URL:https://suncityanthemhikingclub.com/hikes/azt-american-flag-ranch-north-i-nov-122025/
LOCATION:AZT-American Flag Ranch\, AZ\, 85132\, United States
CATEGORIES:Intermediate Hikes
ORGANIZER;CN="Cliff Miller":MAILTO:c3miller18@hotmail.com
GEO:32.580885;-110.720329
END:VEVENT
BEGIN:VEVENT
DTSTART;TZID=America/Phoenix:20251210T074500
DTEND;TZID=America/Phoenix:20251210T170000
DTSTAMP:20260421T034423
CREATED:20250217T201438Z
LAST-MODIFIED:20251204T211001Z
UID:10002394-1765352700-1765386000@suncityanthemhikingclub.com
SUMMARY:AZT - Kelvin North (CI) - Dec 10\,2025
DESCRIPTION:Hike Detail Page
URL:https://suncityanthemhikingclub.com/hikes/azt-kelvin-north-ci-dec-102025/
LOCATION:AZT-Kelvin North\, AZ\, 85132\, United States
CATEGORIES:Casual Intermediate Hikes
ORGANIZER;CN="Martha Scott":MAILTO:mascott75@icloud.com
GEO:33.106527;-110.979176
END:VEVENT
BEGIN:VEVENT
DTSTART;TZID=America/Phoenix:20251215T073000
DTEND;TZID=America/Phoenix:20251215T120000
DTSTAMP:20260421T034423
CREATED:20251006T201043Z
LAST-MODIFIED:20251106T204316Z
UID:10002432-1765783800-1765800000@suncityanthemhikingclub.com
SUMMARY:Poston Butte (ALL) - Dec 15\,2025
DESCRIPTION:Hike Detail Page
URL:https://suncityanthemhikingclub.com/hikes/poston-butte-all-dec-152025/
LOCATION:Poston Butte\, AZ\, 85132\, United States
CATEGORIES:Special Hikes
ORGANIZER;CN="Martha Scott":MAILTO:mascott75@icloud.com
GEO:33.053692;-111.403837
END:VEVENT
BEGIN:VEVENT
DTSTART;TZID=America/Phoenix:20251215T160000
DTEND;TZID=America/Phoenix:20251215T180000
DTSTAMP:20260421T034423
CREATED:20250808T203718Z
LAST-MODIFIED:20250808T203755Z
UID:10002423-1765814400-1765821600@suncityanthemhikingclub.com
SUMMARY:Board Meeting - Dec 15\,2025
DESCRIPTION:
URL:https://suncityanthemhikingclub.com/hikes/board-meeting-dec-152025/
LOCATION:Cushman Conference Room
CATEGORIES:Exec and Steering,Meetings
END:VEVENT
BEGIN:VEVENT
DTSTART;TZID=America/Phoenix:20251217T070000
DTEND;TZID=America/Phoenix:20251217T170000
DTSTAMP:20260421T034423
CREATED:20250217T203345Z
LAST-MODIFIED:20250217T203345Z
UID:10002401-1765954800-1765990800@suncityanthemhikingclub.com
SUMMARY:Canyon Lake to Battleship Mountain Loop (A) - Dec 17\,2025
DESCRIPTION:Hike Detail Page
URL:https://suncityanthemhikingclub.com/hikes/canyon-lake-to-battleship-mountain-loop-a-dec-172025/
LOCATION:Canyon Lake
CATEGORIES:Advanced Hikes
ORGANIZER;CN="Chuck Boxrucker":MAILTO:boxsplace@yahoo.com
END:VEVENT
BEGIN:VEVENT
DTSTART;TZID=America/Phoenix:20251217T071500
DTEND;TZID=America/Phoenix:20251217T170000
DTSTAMP:20260421T034423
CREATED:20250217T203051Z
LAST-MODIFIED:20250217T203051Z
UID:10002400-1765955700-1765990800@suncityanthemhikingclub.com
SUMMARY:Phone Line Trail (UI) - Dec 17\,2025
DESCRIPTION:Hike Detail Page
URL:https://suncityanthemhikingclub.com/hikes/phone-line-trail-ui-dec-172025/
LOCATION:Phone Line Trail\, AZ\, 85132\, United States
CATEGORIES:Upper Intermediate Hikes
ORGANIZER;CN="Erin Downey":MAILTO:erindowney1@me.com
GEO:32.309953;-110.82366
END:VEVENT
BEGIN:VEVENT
DTSTART;TZID=America/Phoenix:20251217T073000
DTEND;TZID=America/Phoenix:20251217T170000
DTSTAMP:20260421T034423
CREATED:20250217T202757Z
LAST-MODIFIED:20250217T202817Z
UID:10002399-1765956600-1765990800@suncityanthemhikingclub.com
SUMMARY:White Canyon - South End (I) - Dec 17\,2025
DESCRIPTION:Hike Detail Page
URL:https://suncityanthemhikingclub.com/hikes/white-canyon-south-end-i-dec-172025/
LOCATION:White Canyon South\, AZ\, 85132\, United States
CATEGORIES:Intermediate Hikes
GEO:33.164651;-111.063317
END:VEVENT
BEGIN:VEVENT
DTSTART;TZID=America/Phoenix:20251217T074500
DTEND;TZID=America/Phoenix:20251217T170000
DTSTAMP:20260421T034423
CREATED:20250217T202531Z
LAST-MODIFIED:20251130T185525Z
UID:10002398-1765957500-1765990800@suncityanthemhikingclub.com
SUMMARY:Hackberry Spring (CI) - Dec 17\,2025
DESCRIPTION:Hike Detail Page
URL:https://suncityanthemhikingclub.com/hikes/hackberry-spring-ci-dec-172025/
LOCATION:Hackberry Springs\, AZ\, 85132\, United States
CATEGORIES:Casual Intermediate Hikes
ORGANIZER;CN="Martha Scott":MAILTO:mascott75@icloud.com
GEO:33.480282;-111.443075
END:VEVENT
BEGIN:VEVENT
DTSTART;TZID=America/Phoenix:20251217T080000
DTEND;TZID=America/Phoenix:20251217T170000
DTSTAMP:20260421T034423
CREATED:20250217T202150Z
LAST-MODIFIED:20250217T202150Z
UID:10002397-1765958400-1765990800@suncityanthemhikingclub.com
SUMMARY:Silly Mountain Park (S) - Dec 17\,2025
DESCRIPTION:Hike Detail Page
URL:https://suncityanthemhikingclub.com/hikes/silly-mountain-park-s-dec-172025/
LOCATION:Silly Mountain\, AZ\, 85132\, United States
CATEGORIES:Short Hikes
ORGANIZER;CN="Dave Dobmeier":MAILTO:davidddobmeier@yahoo.com
GEO:33.380385;-111.48962
END:VEVENT
BEGIN:VEVENT
DTSTART;TZID=America/Phoenix:20251222T073000
DTEND;TZID=America/Phoenix:20251222T120000
DTSTAMP:20260421T034423
CREATED:20251006T201142Z
LAST-MODIFIED:20251106T204505Z
UID:10002433-1766388600-1766404800@suncityanthemhikingclub.com
SUMMARY:Poston Butte (ALL) - Dec 22\,2025
DESCRIPTION:Hike Detail Page
URL:https://suncityanthemhikingclub.com/hikes/poston-butte-all-dec-222025/
LOCATION:Poston Butte\, AZ\, 85132\, United States
CATEGORIES:Special Hikes
ORGANIZER;CN="Martha Scott":MAILTO:mascott75@icloud.com
GEO:33.053692;-111.403837
END:VEVENT
BEGIN:VEVENT
DTSTART;TZID=America/Phoenix:20251229T073000
DTEND;TZID=America/Phoenix:20251229T120000
DTSTAMP:20260421T034423
CREATED:20251006T201247Z
LAST-MODIFIED:20251106T204639Z
UID:10002434-1766993400-1767009600@suncityanthemhikingclub.com
SUMMARY:Poston Butte (ALL) - Dec 29\,2025
DESCRIPTION:Hike Detail Page
URL:https://suncityanthemhikingclub.com/hikes/poston-butte-all-dec-292025/
LOCATION:Poston Butte\, AZ\, 85132\, United States
CATEGORIES:Special Hikes
ORGANIZER;CN="Martha Scott":MAILTO:mascott75@icloud.com
GEO:33.053692;-111.403837
END:VEVENT
END:VCALENDAR