BEGIN:VCALENDAR
VERSION:2.0
PRODID:-//SUN CITY ANTHEM HIKING CLUB - ECPv6.15.15//NONSGML v1.0//EN
CALSCALE:GREGORIAN
METHOD:PUBLISH
X-WR-CALNAME:SUN CITY ANTHEM HIKING CLUB
X-ORIGINAL-URL:https://suncityanthemhikingclub.com
X-WR-CALDESC:Events for SUN CITY ANTHEM HIKING CLUB
REFRESH-INTERVAL;VALUE=DURATION:PT1H
X-Robots-Tag:noindex
X-PUBLISHED-TTL:PT1H
BEGIN:VTIMEZONE
TZID:America/Phoenix
BEGIN:STANDARD
TZOFFSETFROM:-0700
TZOFFSETTO:-0700
TZNAME:MST
DTSTART:20240101T000000
END:STANDARD
END:VTIMEZONE
BEGIN:VEVENT
DTSTART;TZID=America/Phoenix:20251105T071500
DTEND;TZID=America/Phoenix:20251105T170000
DTSTAMP:20260421T051623
CREATED:20250214T214434Z
LAST-MODIFIED:20250612T194504Z
UID:10002376-1762326900-1762362000@suncityanthemhikingclub.com
SUMMARY:AZT - Kelvin North (UI) - Nov 5\,2025
DESCRIPTION:Hike Detail Page
URL:https://suncityanthemhikingclub.com/hikes/azt-kelvin-north-ui-nov-52025/
LOCATION:AZT-Kelvin North\, AZ\, 85132\, United States
CATEGORIES:Upper Intermediate Hikes
ORGANIZER;CN="Tracy Mecum":MAILTO:metr7790@outlook.com
GEO:33.106527;-110.979176
END:VEVENT
BEGIN:VEVENT
DTSTART;TZID=America/Phoenix:20251105T073000
DTEND;TZID=America/Phoenix:20251105T170000
DTSTAMP:20260421T051623
CREATED:20250214T213951Z
LAST-MODIFIED:20251103T024038Z
UID:10002375-1762327800-1762362000@suncityanthemhikingclub.com
SUMMARY:Apache Leap (I) - Nov 5\,2025
DESCRIPTION:Hike Detail Page
URL:https://suncityanthemhikingclub.com/hikes/apache-leap-i-nov-52025/
LOCATION:Apache Leap\, AZ\, United States
CATEGORIES:Intermediate Hikes
ORGANIZER;CN="Ken Bobey":MAILTO:aapl87-pb@yahoo.com
GEO:32.28819;-111.05971
END:VEVENT
BEGIN:VEVENT
DTSTART;TZID=America/Phoenix:20251105T074500
DTEND;TZID=America/Phoenix:20251105T170000
DTSTAMP:20260421T051623
CREATED:20250214T213432Z
LAST-MODIFIED:20250214T213432Z
UID:10002374-1762328700-1762362000@suncityanthemhikingclub.com
SUMMARY:Casa Grande Mtn Park (CI) - Nov 5\,2025
DESCRIPTION:Hike Detail Page
URL:https://suncityanthemhikingclub.com/hikes/casa-grande-mtn-park-ci-nov-52025/
LOCATION:Casa Grande Mountain Park\, AZ\, 85132\, United States
CATEGORIES:Casual Intermediate Hikes
GEO:32.83222;-111.711338
END:VEVENT
BEGIN:VEVENT
DTSTART;TZID=America/Phoenix:20251105T080000
DTEND;TZID=America/Phoenix:20251105T170000
DTSTAMP:20260421T051623
CREATED:20250214T213024Z
LAST-MODIFIED:20250214T213024Z
UID:10002373-1762329600-1762362000@suncityanthemhikingclub.com
SUMMARY:AZT - Picketpost South (S) - Nov 5\,2025
DESCRIPTION:Hike Detail Page
URL:https://suncityanthemhikingclub.com/hikes/azt-picketpost-south-s-nov-52025/
LOCATION:AZT-Picketpost South\, AZ\, 85132\, United States
CATEGORIES:Short Hikes
ORGANIZER;CN="Dave Dobmeier":MAILTO:davidddobmeier@yahoo.com
GEO:33.272654;-111.177004
END:VEVENT
BEGIN:VEVENT
DTSTART;TZID=America/Phoenix:20251110T140000
DTEND;TZID=America/Phoenix:20251110T153000
DTSTAMP:20260421T051623
CREATED:20250808T204137Z
LAST-MODIFIED:20250808T204137Z
UID:10002424-1762783200-1762788600@suncityanthemhikingclub.com
SUMMARY:General Membership Meeting & Ice Cream Social - Nov 10\,2025
DESCRIPTION:Ballroom
URL:https://suncityanthemhikingclub.com/hikes/general-membership-meeting-ice-cream-social-nov-102025/
LOCATION:Union Center Ballroom\, AZ\, 85132\, United States
CATEGORIES:General Club Meeting,Meetings
END:VEVENT
BEGIN:VEVENT
DTSTART;TZID=America/Phoenix:20251112T071500
DTEND;TZID=America/Phoenix:20251112T170000
DTSTAMP:20260421T051623
CREATED:20250215T200416Z
LAST-MODIFIED:20251103T184706Z
UID:10002380-1762931700-1762966800@suncityanthemhikingclub.com
SUMMARY:Top of the World Key Exchange (UI) - Nov 12\,2025
DESCRIPTION:Hike Detail Page
URL:https://suncityanthemhikingclub.com/hikes/top-of-the-world-key-exchange-ui-nov-122025/
LOCATION:Top of the World
CATEGORIES:Upper Intermediate Hikes
ORGANIZER;CN="Erin Downey":MAILTO:erindowney1@me.com
END:VEVENT
BEGIN:VEVENT
DTSTART;TZID=America/Phoenix:20251112T073000
DTEND;TZID=America/Phoenix:20251112T170000
DTSTAMP:20260421T051623
CREATED:20250217T201701Z
LAST-MODIFIED:20250405T195444Z
UID:10002395-1762932600-1762966800@suncityanthemhikingclub.com
SUMMARY:Butcher Jones Trail\, Saguaro Lake (I) - Nov 12\,2025
DESCRIPTION:Hike Detail Page
URL:https://suncityanthemhikingclub.com/hikes/butcher-jones-trail-saguaro-lake-i-dec-102025/
LOCATION:Butcher Jones Trail\, AZ\, 85132\, United States
CATEGORIES:Intermediate Hikes
GEO:33.575597;-111.514405
END:VEVENT
BEGIN:VEVENT
DTSTART;TZID=America/Phoenix:20251112T074500
DTEND;TZID=America/Phoenix:20251112T170000
DTSTAMP:20260421T051623
CREATED:20250215T195838Z
LAST-MODIFIED:20251108T211934Z
UID:10002378-1762933500-1762966800@suncityanthemhikingclub.com
SUMMARY:Arnett Canyon - Apache Tears with Overlook (CI) - Nov 12\,2025
DESCRIPTION:Hike Detail Page
URL:https://suncityanthemhikingclub.com/hikes/arnett-canyon-apache-tears-with-overlook-ci-nov-122025/
LOCATION:Arnett Canyon\, AZ\, 85132\, United States
CATEGORIES:Casual Intermediate Hikes
GEO:33.272654;-111.177004
END:VEVENT
BEGIN:VEVENT
DTSTART;TZID=America/Phoenix:20251112T080000
DTEND;TZID=America/Phoenix:20251112T170000
DTSTAMP:20260421T051623
CREATED:20250215T195523Z
LAST-MODIFIED:20250215T195523Z
UID:10002377-1762934400-1762966800@suncityanthemhikingclub.com
SUMMARY:AZT - Hwy 60 North (S) - Nov 12\,2025
DESCRIPTION:Hike Detail Page
URL:https://suncityanthemhikingclub.com/hikes/azt-hwy-60-north-s-nov-122025/
LOCATION:AZT-Hwy 60 North\, AZ\, 85132\, United States
CATEGORIES:Short Hikes
ORGANIZER;CN="Martha Scott":MAILTO:mascott75@icloud.com
GEO:33.28271;-111.17649
END:VEVENT
BEGIN:VEVENT
DTSTART;TZID=America/Phoenix:20251112T110000
DTEND;TZID=America/Phoenix:20251112T170000
DTSTAMP:20260421T051623
CREATED:20251006T203653Z
LAST-MODIFIED:20251028T014353Z
UID:10002437-1762945200-1762966800@suncityanthemhikingclub.com
SUMMARY:Kayak Adventure - Nov  12\,2025
DESCRIPTION:The “Perfect Lake Day” Kayak Registration \nDate: Wednesday\, November 12 \nLunch at Saguaro Lake Grill: 11:00 am \nKayak: 1:00 – 3:00 pm \n  \nZelle payment of $54.21 per kayak to gvloni31@gmail.com.  If Zelle is not an option\, please contact Gino to pay by check no later than Nov. 4th. \n  \n\n\n\n  \nKayak Details: \n·         Registration for a kayak ends November 4. \n·         You may cancel up to 48 hours prior to the event and receive a refund. \n·         Single kayaks only\, no doubles. \n·         Water shoes\, tennis shoes are highly recommended.\n\n\n\n\nYou will get wet. Bring sunscreen\, drinking water\, and a waterproof bag for phone\, keys\, etc.\nYou will be provided a life jacket\, and brief training before launching.\nThis is unguided\, paddle at your own pace adventure.\n\nSaguaro Lake Grill Address: 14011 N. Bush Highway\, Mesa
URL:https://suncityanthemhikingclub.com/hikes/kayak-adventure-nov-122025/
LOCATION:Saguaro Lake
CATEGORIES:Social Event
END:VEVENT
BEGIN:VEVENT
DTSTART;TZID=America/Phoenix:20251117T073000
DTEND;TZID=America/Phoenix:20251117T120000
DTSTAMP:20260421T051623
CREATED:20251006T200343Z
LAST-MODIFIED:20251106T202205Z
UID:10002428-1763364600-1763380800@suncityanthemhikingclub.com
SUMMARY:Poston Butte (ALL) - Nov 17\,2025
DESCRIPTION:Hike Detail Page
URL:https://suncityanthemhikingclub.com/hikes/poston-butte-all-nov-172025/
LOCATION:Poston Butte\, AZ\, 85132\, United States
CATEGORIES:Special Hikes
ORGANIZER;CN="Martha Scott":MAILTO:mascott75@icloud.com
GEO:33.053692;-111.403837
END:VEVENT
BEGIN:VEVENT
DTSTART;TZID=America/Phoenix:20251117T160000
DTEND;TZID=America/Phoenix:20251117T180000
DTSTAMP:20260421T051623
CREATED:20250808T203638Z
LAST-MODIFIED:20250808T203836Z
UID:10002422-1763395200-1763402400@suncityanthemhikingclub.com
SUMMARY:Board Meeting - Nov 17\,2025
DESCRIPTION:
URL:https://suncityanthemhikingclub.com/hikes/board-meeting-nov-172025/
LOCATION:Cushman Conference Room
CATEGORIES:Exec and Steering,Meetings
END:VEVENT
BEGIN:VEVENT
DTSTART;TZID=America/Phoenix:20251119T070000
DTEND;TZID=America/Phoenix:20251119T170000
DTSTAMP:20260421T051623
CREATED:20250215T203033Z
LAST-MODIFIED:20250215T203033Z
UID:10002385-1763535600-1763571600@suncityanthemhikingclub.com
SUMMARY:Weaver Needle Loop (A) - Nov 19\,2025
DESCRIPTION:Hike Detail Page
URL:https://suncityanthemhikingclub.com/hikes/weaver-needle-loop-a-nov-192025/
LOCATION:Weaver’s Needle
CATEGORIES:Advanced Hikes
ORGANIZER;CN="Chase Caldwell":MAILTO:chasecaldwellrealtor@gmail.com
END:VEVENT
BEGIN:VEVENT
DTSTART;TZID=America/Phoenix:20251119T071500
DTEND;TZID=America/Phoenix:20251119T170000
DTSTAMP:20260421T051623
CREATED:20250215T202800Z
LAST-MODIFIED:20250215T202800Z
UID:10002384-1763536500-1763571600@suncityanthemhikingclub.com
SUMMARY:Seven Falls via Bear Canyon Trail (UI) - Nov 19\,2025
DESCRIPTION:Hike Detail Page
URL:https://suncityanthemhikingclub.com/hikes/seven-falls-via-bear-canyon-trail-ui-nov-192025/
LOCATION:Seven Falls\, AZ\, 85132\, United States
CATEGORIES:Upper Intermediate Hikes
GEO:32.309953;-110.82366
END:VEVENT
BEGIN:VEVENT
DTSTART;TZID=America/Phoenix:20251119T073000
DTEND;TZID=America/Phoenix:20251119T170000
DTSTAMP:20260421T051623
CREATED:20250215T202520Z
LAST-MODIFIED:20250215T202541Z
UID:10002383-1763537400-1763571600@suncityanthemhikingclub.com
SUMMARY:AZT - Florence Kelvin Rd South (I) - Nov 19\,2025
DESCRIPTION:Hike Detail Page
URL:https://suncityanthemhikingclub.com/hikes/azt-florence-kelvin-rd-south-i-nov-192025/
LOCATION:AZT-Kelvin South\, AZ\, 85132\, United States
CATEGORIES:Intermediate Hikes
ORGANIZER;CN="Carol McLean":MAILTO:c.mclean@shaw.ca
GEO:33.0893;-110.98989
END:VEVENT
BEGIN:VEVENT
DTSTART;TZID=America/Phoenix:20251119T074500
DTEND;TZID=America/Phoenix:20251119T170000
DTSTAMP:20260421T051623
CREATED:20250215T202213Z
LAST-MODIFIED:20250215T202213Z
UID:10002382-1763538300-1763571600@suncityanthemhikingclub.com
SUMMARY:Praying Hands East Loop (CI) - Nov 19\,2025
DESCRIPTION:Hike Detail Page
URL:https://suncityanthemhikingclub.com/hikes/praying-hands-east-loop-ci-nov-192025/
LOCATION:Praying Hands\, AZ\, 85132\, United States
CATEGORIES:Casual Intermediate Hikes
ORGANIZER;CN="Chris Manss":MAILTO:chrisbub23@hotmail.com
GEO:33.4715;-111.46927
END:VEVENT
BEGIN:VEVENT
DTSTART;TZID=America/Phoenix:20251119T080000
DTEND;TZID=America/Phoenix:20251119T170000
DTSTAMP:20260421T051623
CREATED:20250215T201939Z
LAST-MODIFIED:20250215T201939Z
UID:10002381-1763539200-1763571600@suncityanthemhikingclub.com
SUMMARY:LOST Trail across Queen Creek to the Saddle (S) - Nov 19\,2025
DESCRIPTION:Hike Detail Page
URL:https://suncityanthemhikingclub.com/hikes/lost-trail-across-queen-creek-to-the-saddle-s-nov-192025/
LOCATION:Lost Trail Across Queen Creek
CATEGORIES:Short Hikes
END:VEVENT
BEGIN:VEVENT
DTSTART;TZID=America/Phoenix:20251124T073000
DTEND;TZID=America/Phoenix:20251124T120000
DTSTAMP:20260421T051623
CREATED:20251006T200614Z
LAST-MODIFIED:20251106T202446Z
UID:10002429-1763969400-1763985600@suncityanthemhikingclub.com
SUMMARY:Poston Butte (ALL) - Nov 24\,2025
DESCRIPTION:Hike Detail Page
URL:https://suncityanthemhikingclub.com/hikes/poston-butte-all-nov-242025/
LOCATION:Poston Butte\, AZ\, 85132\, United States
CATEGORIES:Special Hikes
ORGANIZER;CN="Martha Scott":MAILTO:mascott75@icloud.com
GEO:33.053692;-111.403837
END:VEVENT
BEGIN:VEVENT
DTSTART;TZID=America/Phoenix:20251126T071500
DTEND;TZID=America/Phoenix:20251126T170000
DTSTAMP:20260421T051623
CREATED:20250216T194548Z
LAST-MODIFIED:20250216T194548Z
UID:10002388-1764141300-1764176400@suncityanthemhikingclub.com
SUMMARY:Desperado-North Star - Saguaro Loop Trails (UI) - Nov 26\,2025
DESCRIPTION:Hike Detail Page
URL:https://suncityanthemhikingclub.com/hikes/desperado-north-star-saguaro-loop-trails-ui-nov-262025/
LOCATION:Desperado Trail\, United States
CATEGORIES:Upper Intermediate Hikes
END:VEVENT
BEGIN:VEVENT
DTSTART;TZID=America/Phoenix:20251126T080000
DTEND;TZID=America/Phoenix:20251126T170000
DTSTAMP:20260421T051623
CREATED:20250216T194255Z
LAST-MODIFIED:20251111T025324Z
UID:10002387-1764144000-1764176400@suncityanthemhikingclub.com
SUMMARY:Desperado-Star Gazing-Oro Vista Trails (I) - Nov 26\,2025
DESCRIPTION:Hike Detail Page
URL:https://suncityanthemhikingclub.com/hikes/desperado-star-gazing-oro-vista-trails-i-nov-262025/
LOCATION:Desperado Trail\, United States
CATEGORIES:Intermediate Hikes
ORGANIZER;CN="Cliff Miller":MAILTO:c3miller18@hotmail.com
END:VEVENT
BEGIN:VEVENT
DTSTART;TZID=America/Phoenix:20251126T080000
DTEND;TZID=America/Phoenix:20251126T190000
DTSTAMP:20260421T051623
CREATED:20251006T204938Z
LAST-MODIFIED:20251112T004919Z
UID:10002438-1764144000-1764183600@suncityanthemhikingclub.com
SUMMARY:Thanksgiving Cookout - Nov 26\,2025
DESCRIPTION:Following our hikes\, we will meet at Group Ramada 2 for food\, fun and a raffle. \nOur Club chefs will be serving hot dogs\, hamburgers\, chips\, dessert and water. The cost\nfor this delicious meal is $8 per person and payable (cash only) the day of the event.\nWe understand that some of you have dietary restrictions that will not work with our\nmeal\, but we hope you will join us after the hike. Feel free to bring your own lunch. \nPlease register to let our chefs know you are coming so they have plenty of food to\nserve.
URL:https://suncityanthemhikingclub.com/hikes/thanksgiving-cookout-nov-262025/
LOCATION:Thanksgiving Cookout\, AZ\, 85132\, United States
CATEGORIES:Social Event
ORGANIZER;CN="Greg Waterman":MAILTO:gregh2oman@gmail.com
GEO:33.460454;-111.478
END:VEVENT
BEGIN:VEVENT
DTSTART;TZID=America/Phoenix:20251126T083000
DTEND;TZID=America/Phoenix:20251126T170000
DTSTAMP:20260421T051623
CREATED:20250216T193950Z
LAST-MODIFIED:20251111T025205Z
UID:10002386-1764145800-1764176400@suncityanthemhikingclub.com
SUMMARY:Desperado Trail (S) - Nov 26\,2025
DESCRIPTION:Hike Detail Page
URL:https://suncityanthemhikingclub.com/hikes/desperado-trail-s-nov-262025/
LOCATION:Desperado Trail\, United States
CATEGORIES:Short Hikes
ORGANIZER;CN="Ken Bobey":MAILTO:aapl87-pb@yahoo.com
END:VEVENT
BEGIN:VEVENT
DTSTART;TZID=America/Phoenix:20251129T090000
DTEND;TZID=America/Phoenix:20251129T170000
DTSTAMP:20260421T051623
CREATED:20241219T173823Z
LAST-MODIFIED:20241219T173905Z
UID:10002353-1764406800-1764435600@suncityanthemhikingclub.com
SUMMARY:Community Hike - Nov 29\,2025
DESCRIPTION:Our Club is hosting a hike to the summit of Poston Butte for all Sun City Residents. Invite your neighbors! We are hoping for a great turnout to spread the word about our Club. \n\nThe date is Saturday\, Nov 29 at 9:00 am.\nMeet at the Union Center parking lot by the outdoor restrooms.\nPlease wear sturdy shoes.\nHike is two miles\, roundtrip.\n\nQuestions\, please call Bill Scott 520-840-8879
URL:https://suncityanthemhikingclub.com/hikes/community-hike-nov-292025/
LOCATION:Poston Butte\, AZ\, 85132\, United States
CATEGORIES:Social Event
ORGANIZER;CN="Bill Scott":MAILTO:clscott00@hotmail.com
GEO:33.053692;-111.403837
END:VEVENT
END:VCALENDAR