BEGIN:VCALENDAR
VERSION:2.0
PRODID:-//SUN CITY ANTHEM HIKING CLUB - ECPv6.15.15//NONSGML v1.0//EN
CALSCALE:GREGORIAN
METHOD:PUBLISH
X-WR-CALNAME:SUN CITY ANTHEM HIKING CLUB
X-ORIGINAL-URL:https://suncityanthemhikingclub.com
X-WR-CALDESC:Events for SUN CITY ANTHEM HIKING CLUB
REFRESH-INTERVAL;VALUE=DURATION:PT1H
X-Robots-Tag:noindex
X-PUBLISHED-TTL:PT1H
BEGIN:VTIMEZONE
TZID:America/Phoenix
BEGIN:STANDARD
TZOFFSETFROM:-0700
TZOFFSETTO:-0700
TZNAME:MST
DTSTART:20240101T000000
END:STANDARD
END:VTIMEZONE
BEGIN:VEVENT
DTSTART;TZID=America/Phoenix:20250704T080000
DTEND;TZID=America/Phoenix:20250704T170000
DTSTAMP:20260421T030925
CREATED:20250411T191534Z
LAST-MODIFIED:20250613T213822Z
UID:10002411-1751616000-1751648400@suncityanthemhikingclub.com
SUMMARY:experiment - July 4\,2025
DESCRIPTION:Hike Detail Page\n 
URL:https://suncityanthemhikingclub.com/hikes/experiment-july-42025/
LOCATION:Canyon Lake
CATEGORIES:Advanced Hikes
ORGANIZER;CN="Chuck Boxrucker":MAILTO:boxsplace@yahoo.com
END:VEVENT
END:VCALENDAR