BEGIN:VCALENDAR
VERSION:2.0
PRODID:-//SUN CITY ANTHEM HIKING CLUB - ECPv6.15.15//NONSGML v1.0//EN
CALSCALE:GREGORIAN
METHOD:PUBLISH
X-WR-CALNAME:SUN CITY ANTHEM HIKING CLUB
X-ORIGINAL-URL:https://suncityanthemhikingclub.com
X-WR-CALDESC:Events for SUN CITY ANTHEM HIKING CLUB
REFRESH-INTERVAL;VALUE=DURATION:PT1H
X-Robots-Tag:noindex
X-PUBLISHED-TTL:PT1H
BEGIN:VTIMEZONE
TZID:America/Phoenix
BEGIN:STANDARD
TZOFFSETFROM:-0700
TZOFFSETTO:-0700
TZNAME:MST
DTSTART:20240101T000000
END:STANDARD
END:VTIMEZONE
BEGIN:VEVENT
DTSTART;TZID=America/Phoenix:20250101T073000
DTEND;TZID=America/Phoenix:20250101T170000
DTSTAMP:20260421T034107
CREATED:20240308T202709Z
LAST-MODIFIED:20241220T200208Z
UID:10002261-1735716600-1735750800@suncityanthemhikingclub.com
SUMMARY:Broadway Cave & Monument Canyon (I/UI) - 01Jan2025
DESCRIPTION:Hike Detail Page
URL:https://suncityanthemhikingclub.com/hikes/broadway-cave-monument-canyon-i-ui-01jan2025/
LOCATION:Broadway Cave & Monument Canyon\, AZ\, 85132\, United States
CATEGORIES:Hikes,Intermediate Hikes,Upper Intermediate Hikes
ORGANIZER;CN="Chuck Boxrucker":MAILTO:boxsplace@yahoo.com
GEO:33.407818;-111.476331
END:VEVENT
BEGIN:VEVENT
DTSTART;TZID=America/Phoenix:20250101T074500
DTEND;TZID=America/Phoenix:20250101T170000
DTSTAMP:20260421T034107
CREATED:20240308T202138Z
LAST-MODIFIED:20240308T202310Z
UID:10002260-1735717500-1735750800@suncityanthemhikingclub.com
SUMMARY:Desperado Trail (S-CI) - 01Jan2025
DESCRIPTION:Hike Detail Page
URL:https://suncityanthemhikingclub.com/hikes/desperado-trail-s-ci-01jan2025/
LOCATION:Peralta Regional Park\, AZ\, 85132\, United States
CATEGORIES:Casual Intermediate Hikes,Hikes,Short Hikes
ORGANIZER;CN="Bill Scott":MAILTO:clscott00@hotmail.com
GEO:33..647222;-111.370833
END:VEVENT
BEGIN:VEVENT
DTSTART;TZID=America/Phoenix:20250106T070000
DTEND;TZID=America/Phoenix:20250106T170000
DTSTAMP:20260421T034107
CREATED:20241114T202744Z
LAST-MODIFIED:20241219T173204Z
UID:10002294-1736146800-1736182800@suncityanthemhikingclub.com
SUMMARY:Exploratory Top of the World (UI) - Jan 6\,2024
DESCRIPTION:If you are interested contact Bruce Odegaard\, at (206) 396-5472
URL:https://suncityanthemhikingclub.com/hikes/exploratory-top-of-the-world-dec-122024/
LOCATION:superior
CATEGORIES:Hikes,Special Hikes,Upper Intermediate Hikes
ORGANIZER;CN="Bruce Odegaard":MAILTO:bodegaard1@aol.com
END:VEVENT
BEGIN:VEVENT
DTSTART;TZID=America/Phoenix:20250108T070000
DTEND;TZID=America/Phoenix:20250108T170000
DTSTAMP:20260421T034107
CREATED:20240308T204026Z
LAST-MODIFIED:20240308T204056Z
UID:10002265-1736319600-1736355600@suncityanthemhikingclub.com
SUMMARY:Fremont Saddle / Geronimo's Cave (A) - 08Jan2025
DESCRIPTION:Hike Detail Page
URL:https://suncityanthemhikingclub.com/hikes/fremont-saddle-geronimos-cave-a-08jan2025/
LOCATION:Peralta Trail\, AZ\, 85132\, United States
CATEGORIES:Advanced Hikes,Hikes
ORGANIZER;CN="Chuck Boxrucker":MAILTO:boxsplace@yahoo.com
GEO:33.397377;-111.34792
END:VEVENT
BEGIN:VEVENT
DTSTART;TZID=America/Phoenix:20250108T071500
DTEND;TZID=America/Phoenix:20250108T170000
DTSTAMP:20260421T034107
CREATED:20240308T203712Z
LAST-MODIFIED:20240308T203753Z
UID:10002264-1736320500-1736355600@suncityanthemhikingclub.com
SUMMARY:Picketpost Circumference (UI) - 08Jan2025
DESCRIPTION:Hike Detail Page
URL:https://suncityanthemhikingclub.com/hikes/picketpost-circumference-ui-08jan2025/
LOCATION:Picketpost Trailhead\, AZ\, 85132\, United States
CATEGORIES:Hikes,Upper Intermediate Hikes
ORGANIZER;CN="Brian Mangold":MAILTO:bcmangold@gmail.com
GEO:33.272654;-111.177004
END:VEVENT
BEGIN:VEVENT
DTSTART;TZID=America/Phoenix:20250108T073000
DTEND;TZID=America/Phoenix:20250108T170000
DTSTAMP:20260421T034107
CREATED:20240308T203440Z
LAST-MODIFIED:20241003T195951Z
UID:10002263-1736321400-1736355600@suncityanthemhikingclub.com
SUMMARY:Seven Falls via Bear Canyon Trail (I) - 08Jan2025
DESCRIPTION:Hike Detail Page
URL:https://suncityanthemhikingclub.com/hikes/seven-falls-via-bear-canyon-trail-i-08jan2025/
LOCATION:Seven Falls\, AZ\, 85132\, United States
CATEGORIES:Hikes,Intermediate Hikes
ORGANIZER;CN="Cliff Miller":MAILTO:c3miller18@hotmail.com
GEO:32.309953;-110.82366
END:VEVENT
BEGIN:VEVENT
DTSTART;TZID=America/Phoenix:20250108T074500
DTEND;TZID=America/Phoenix:20250108T170000
DTSTAMP:20260421T034107
CREATED:20240308T203043Z
LAST-MODIFIED:20240308T203043Z
UID:10002262-1736322300-1736355600@suncityanthemhikingclub.com
SUMMARY:Casa Grande Mtn Park (CI) - 08Jan2025
DESCRIPTION:Hike Detail Page
URL:https://suncityanthemhikingclub.com/hikes/casa-grande-mtn-park-ci-08jan2025/
LOCATION:Casa Grande Mountain Park\, AZ\, 85132\, United States
CATEGORIES:Casual Intermediate Hikes,Hikes
GEO:32.83222;-111.711338
END:VEVENT
BEGIN:VEVENT
DTSTART;TZID=America/Phoenix:20250108T080000
DTEND;TZID=America/Phoenix:20250108T170000
DTSTAMP:20260421T034107
CREATED:20241004T180745Z
LAST-MODIFIED:20241004T181011Z
UID:10002276-1736323200-1736355600@suncityanthemhikingclub.com
SUMMARY:Hieroglyphic Trail (S) - 8Jan25
DESCRIPTION:Hike Detail Page\n  \nSpecial Instructions: \nThis is an out-and-back hike on a rocky trail. There are petroglyphs\, and great views of the Superstitions. Bring water and a snack. \nDirections: \nTake Felix Rd to Arizona Farms Rd\, turn right. Turn left on AZ 79 to Hwy 60 West and follow Hwy 60 West. Turn right on Kings Ranch Rd\, at stoplight (milepost 203). Turn right on Baseline. Turn left on Mohican. Turn left on Valley View Dr\, it curves onto Whitetail Rd. Turn right on Cloudview and proceed to the trailhead parking lot.
URL:https://suncityanthemhikingclub.com/hikes/hieroglyphic-trail-s-8jan25/
LOCATION:Hieroglyphic Trail Head\, AZ\, 85132\, United States
CATEGORIES:Hikes,Short Hikes
GEO:33.389745;-111.424699
END:VEVENT
BEGIN:VEVENT
DTSTART;TZID=America/Phoenix:20250111T080000
DTEND;TZID=America/Phoenix:20250111T170000
DTSTAMP:20260421T034107
CREATED:20241125T202425Z
LAST-MODIFIED:20241125T202618Z
UID:10002301-1736582400-1736614800@suncityanthemhikingclub.com
SUMMARY:TEXAS CANYON (S) - Jan 11\,2025
DESCRIPTION:Hike Detail Page
URL:https://suncityanthemhikingclub.com/hikes/texas-canyon-s-jan-112025/
LOCATION:Texas Canyon Nature Preserve
CATEGORIES:Hikes,Short Hikes,Special Hikes
ORGANIZER;CN="Bill Scott":MAILTO:clscott00@hotmail.com
END:VEVENT
BEGIN:VEVENT
DTSTART;TZID=America/Phoenix:20250111T080000
DTEND;TZID=America/Phoenix:20250111T170000
DTSTAMP:20260421T034107
CREATED:20241125T203341Z
LAST-MODIFIED:20241125T210215Z
UID:10002302-1736582400-1736614800@suncityanthemhikingclub.com
SUMMARY:TEXAS CANYON (I) - Jan 11\,2025
DESCRIPTION:Hike Detail Page
URL:https://suncityanthemhikingclub.com/hikes/texas-canyon-i-jan-112025/
LOCATION:Texas Canyon Nature Preserve
CATEGORIES:Hikes,Intermediate Hikes
ORGANIZER;CN="Bruce Odegaard":MAILTO:bodegaard1@aol.com
END:VEVENT
BEGIN:VEVENT
DTSTART;TZID=America/Phoenix:20250115T071500
DTEND;TZID=America/Phoenix:20250115T170000
DTSTAMP:20260421T034107
CREATED:20241126T183241Z
LAST-MODIFIED:20241126T183335Z
UID:10002309-1736925300-1736960400@suncityanthemhikingclub.com
SUMMARY:LOST Trail to the Overlook (UI) - Jan 15\,2025
DESCRIPTION:Hike Detail Page
URL:https://suncityanthemhikingclub.com/hikes/lost-trail-to-the-overlook-ui-jan-152025/
LOCATION:LOST Trail to the Overlook\, AZ\, 85132\, United States
CATEGORIES:Hikes,Upper Intermediate Hikes
ORGANIZER;CN="Erin Downey":MAILTO:erindowney1@me.com
GEO:33.272654;-111.177004
END:VEVENT
BEGIN:VEVENT
DTSTART;TZID=America/Phoenix:20250115T073000
DTEND;TZID=America/Phoenix:20250115T170000
DTSTAMP:20260421T034107
CREATED:20241126T182940Z
LAST-MODIFIED:20241126T182940Z
UID:10002308-1736926200-1736960400@suncityanthemhikingclub.com
SUMMARY:Arnett Canyon - Apache Tears with Overlook (I) - Jan 15\,2025
DESCRIPTION:Hike Detail Page
URL:https://suncityanthemhikingclub.com/hikes/arnett-canyon-apache-tears-with-overlook-i-jan-152025/
LOCATION:Apache Tears\, AZ\, 85132\, United States
CATEGORIES:Hikes,Intermediate Hikes
ORGANIZER;CN="Tracy Mecum":MAILTO:metr7790@outlook.com
GEO:33.26102;-111.12188
END:VEVENT
BEGIN:VEVENT
DTSTART;TZID=America/Phoenix:20250115T074500
DTEND;TZID=America/Phoenix:20250115T170000
DTSTAMP:20260421T034107
CREATED:20241126T182553Z
LAST-MODIFIED:20241126T182553Z
UID:10002307-1736927100-1736960400@suncityanthemhikingclub.com
SUMMARY:Florence Kelvin North to Gila River (CI) - Jan 15\,2025
DESCRIPTION:Hike Detail Page
URL:https://suncityanthemhikingclub.com/hikes/florence-kelvin-north-to-gila-river-ci-jan-152025/
LOCATION:AZT-Kelvin North\, AZ\, 85132\, United States
CATEGORIES:Casual Intermediate Hikes,Hikes
ORGANIZER;CN="Robin Berg":MAILTO:azrobin.berg@gmail.com
GEO:33.106527;-110.979176
END:VEVENT
BEGIN:VEVENT
DTSTART;TZID=America/Phoenix:20250115T080000
DTEND;TZID=America/Phoenix:20250115T170000
DTSTAMP:20260421T034107
CREATED:20241126T182202Z
LAST-MODIFIED:20241126T182202Z
UID:10002306-1736928000-1736960400@suncityanthemhikingclub.com
SUMMARY:FIRST WATER – WINDMILL – DUTCHMAN LOOP (S) - Jan 15\,2025
DESCRIPTION:Hike Detail Page
URL:https://suncityanthemhikingclub.com/hikes/first-water-windmill-dutchman-loop-s-jan-152025/
LOCATION:First Water
CATEGORIES:Hikes,Short Hikes
END:VEVENT
BEGIN:VEVENT
DTSTART;TZID=America/Phoenix:20250120T160000
DTEND;TZID=America/Phoenix:20250120T180000
DTSTAMP:20260421T034107
CREATED:20241219T180218Z
LAST-MODIFIED:20241219T180323Z
UID:10002355-1737388800-1737396000@suncityanthemhikingclub.com
SUMMARY:Board Meeting - Jan 20\,2025
DESCRIPTION:Cushman Conference Room
URL:https://suncityanthemhikingclub.com/hikes/board-meeting-jan-202025/
LOCATION:Cushman Conference Room
CATEGORIES:Exec and Steering,Meetings
END:VEVENT
BEGIN:VEVENT
DTSTART;TZID=America/Phoenix:20250122T070000
DTEND;TZID=America/Phoenix:20250122T170000
DTSTAMP:20260421T034107
CREATED:20241126T185051Z
LAST-MODIFIED:20241126T185051Z
UID:10002314-1737529200-1737565200@suncityanthemhikingclub.com
SUMMARY:Siphon Draw to Flat Iron (A) - Jan 22\,2025
DESCRIPTION:Hike Detail Page
URL:https://suncityanthemhikingclub.com/hikes/siphon-draw-to-flat-iron-a-jan-222025/
LOCATION:Siphon Draw\, AZ\, 85132\, United States
CATEGORIES:Advanced Hikes,Hikes
GEO:33.459712;-111.478061
END:VEVENT
BEGIN:VEVENT
DTSTART;TZID=America/Phoenix:20250122T071500
DTEND;TZID=America/Phoenix:20250122T170000
DTSTAMP:20260421T034107
CREATED:20241126T184723Z
LAST-MODIFIED:20241204T191516Z
UID:10002313-1737530100-1737565200@suncityanthemhikingclub.com
SUMMARY:Massacre Grounds (UI) - Jan 22\,2025
DESCRIPTION:Hike Detail Page
URL:https://suncityanthemhikingclub.com/hikes/massacre-grounds-ui-jan-222025/
LOCATION:Massacre Grounds\, AZ\, 85132\, United States
CATEGORIES:Hikes,Upper Intermediate Hikes
ORGANIZER;CN="Tracy Mecum":MAILTO:metr7790@outlook.com
GEO:33.4715;-111.46927
END:VEVENT
BEGIN:VEVENT
DTSTART;TZID=America/Phoenix:20250122T073000
DTEND;TZID=America/Phoenix:20250122T170000
DTSTAMP:20260421T034107
CREATED:20250114T205403Z
LAST-MODIFIED:20250114T223120Z
UID:10002368-1737531000-1737565200@suncityanthemhikingclub.com
SUMMARY:Arnett Canyon - Telegraph Canyon (I) - Jan. 22\,2025
DESCRIPTION:Hike Detail Page
URL:https://suncityanthemhikingclub.com/hikes/arnett-canyon-telegraph-canyon-i-jan-222025/
LOCATION:Arnett Canyon\, AZ\, 85132\, United States
CATEGORIES:Intermediate Hikes
ORGANIZER;CN="Carol McLean":MAILTO:c.mclean@shaw.ca
GEO:33.272654;-111.177004
END:VEVENT
BEGIN:VEVENT
DTSTART;TZID=America/Phoenix:20250122T074500
DTEND;TZID=America/Phoenix:20250122T170000
DTSTAMP:20260421T034107
CREATED:20241126T184032Z
LAST-MODIFIED:20241126T184032Z
UID:10002311-1737531900-1737565200@suncityanthemhikingclub.com
SUMMARY:Jacobs Crosscut Out & Back South (CI) - Jan 22\,2025
DESCRIPTION:Hike Detail Page
URL:https://suncityanthemhikingclub.com/hikes/jacobs-crosscut-out-back-south-ci-jan-222025/
LOCATION:Jacobs Crosscut Broadway\, AZ\, 85132\, United States
CATEGORIES:Casual Intermediate Hikes,Hikes
ORGANIZER;CN="Chris Manss":MAILTO:chrisbub23@hotmail.com
GEO:33.40797;-111.47662
END:VEVENT
BEGIN:VEVENT
DTSTART;TZID=America/Phoenix:20250122T080000
DTEND;TZID=America/Phoenix:20250122T170000
DTSTAMP:20260421T034107
CREATED:20250114T204738Z
LAST-MODIFIED:20250114T204809Z
UID:10002367-1737532800-1737565200@suncityanthemhikingclub.com
SUMMARY:AZT-Florence Kelvin Rd North - (S) - Jan 22\,2025
DESCRIPTION:Hike Detail Page
URL:https://suncityanthemhikingclub.com/hikes/azt-florence-kelvin-rd-north-s-jan-222025/
LOCATION:AZT-Kelvin North\, AZ\, 85132\, United States
CATEGORIES:Short Hikes
ORGANIZER;CN="Dave Dobmeier":MAILTO:davidddobmeier@yahoo.com
GEO:33.106527;-110.979176
END:VEVENT
BEGIN:VEVENT
DTSTART;TZID=America/Phoenix:20250127T160000
DTEND;TZID=America/Phoenix:20250127T200000
DTSTAMP:20260421T034107
CREATED:20241125T204634Z
LAST-MODIFIED:20241125T204634Z
UID:10002303-1737993600-1738008000@suncityanthemhikingclub.com
SUMMARY:Potluck - Jan 27\,2025
DESCRIPTION:4:00-8:00 pm\nBallroom\nRegister via Punchbowl Invitation only.\nOpen to all members and their spouses.\nQuestions contact: mascott75@icloud.com
URL:https://suncityanthemhikingclub.com/hikes/potluck-jan-272025/
LOCATION:Union Center Ballroom\, AZ\, 85132\, United States
CATEGORIES:Social Event
END:VEVENT
BEGIN:VEVENT
DTSTART;TZID=America/Phoenix:20250129T071500
DTEND;TZID=America/Phoenix:20250129T170000
DTSTAMP:20260421T034107
CREATED:20241126T190244Z
LAST-MODIFIED:20241126T190244Z
UID:10002317-1738134900-1738170000@suncityanthemhikingclub.com
SUMMARY:Second Water Spring & Hackberry Arch (UI) - Jan 29\,2025
DESCRIPTION:Hike Detail Page
URL:https://suncityanthemhikingclub.com/hikes/second-water-spring-hackberry-arch-ui-jan-292025/
LOCATION:Second Water Spring/Hackberry Arch\, AZ\, 85132\, United States
CATEGORIES:Hikes,Upper Intermediate Hikes
ORGANIZER;CN="Erin Downey":MAILTO:erindowney1@me.com
GEO:33.480282;-111.443075
END:VEVENT
BEGIN:VEVENT
DTSTART;TZID=America/Phoenix:20250129T073000
DTEND;TZID=America/Phoenix:20250129T170000
DTSTAMP:20260421T034107
CREATED:20241204T191854Z
LAST-MODIFIED:20241204T191854Z
UID:10002331-1738135800-1738170000@suncityanthemhikingclub.com
SUMMARY:AZT - Kelvin North (I) - Jan 29\,2025
DESCRIPTION:Hike Detail Page
URL:https://suncityanthemhikingclub.com/hikes/azt-kelvin-north-i-jan-292025/
LOCATION:AZT-Kelvin North\, AZ\, 85132\, United States
CATEGORIES:Hikes,Intermediate Hikes
ORGANIZER;CN="Tracy Mecum":MAILTO:metr7790@outlook.com
GEO:33.106527;-110.979176
END:VEVENT
BEGIN:VEVENT
DTSTART;TZID=America/Phoenix:20250129T074500
DTEND;TZID=America/Phoenix:20250129T170000
DTSTAMP:20260421T034107
CREATED:20241126T185643Z
LAST-MODIFIED:20241126T185643Z
UID:10002316-1738136700-1738170000@suncityanthemhikingclub.com
SUMMARY:Big Boulders (CI) - Jan 29\,2025
DESCRIPTION:Hike Detail Page
URL:https://suncityanthemhikingclub.com/hikes/big-boulders-ci-jan-292025/
LOCATION:Big Boulders\, AZ\, 85132\, United States
CATEGORIES:Casual Intermediate Hikes,Hikes
ORGANIZER;CN="Brian Mangold":MAILTO:bcmangold@gmail.com
GEO:32.992429;-111.113019
END:VEVENT
BEGIN:VEVENT
DTSTART;TZID=America/Phoenix:20250129T080000
DTEND;TZID=America/Phoenix:20250129T170000
DTSTAMP:20260421T034107
CREATED:20241126T185348Z
LAST-MODIFIED:20241126T185348Z
UID:10002315-1738137600-1738170000@suncityanthemhikingclub.com
SUMMARY:Casa Grande Mountain Park (S) - Jan 29\,2025
DESCRIPTION:Hike Detail Page
URL:https://suncityanthemhikingclub.com/hikes/casa-grande-mountain-park-s-jan-292025/
LOCATION:Casa Grande Mountain Park\, AZ\, 85132\, United States
CATEGORIES:Hikes,Short Hikes
ORGANIZER;CN="Robin Berg":MAILTO:azrobin.berg@gmail.com
GEO:32.83222;-111.711338
END:VEVENT
END:VCALENDAR