BEGIN:VCALENDAR
VERSION:2.0
PRODID:-//SUN CITY ANTHEM HIKING CLUB - ECPv6.15.15//NONSGML v1.0//EN
CALSCALE:GREGORIAN
METHOD:PUBLISH
X-ORIGINAL-URL:https://suncityanthemhikingclub.com
X-WR-CALDESC:Events for SUN CITY ANTHEM HIKING CLUB
REFRESH-INTERVAL;VALUE=DURATION:PT1H
X-Robots-Tag:noindex
X-PUBLISHED-TTL:PT1H
BEGIN:VTIMEZONE
TZID:America/Phoenix
BEGIN:STANDARD
TZOFFSETFROM:-0700
TZOFFSETTO:-0700
TZNAME:MST
DTSTART:20230101T000000
END:STANDARD
END:VTIMEZONE
BEGIN:VEVENT
DTSTART;TZID=America/Phoenix:20240319T080000
DTEND;TZID=America/Phoenix:20240320T170000
DTSTAMP:20260422T062800
CREATED:20240114T180154Z
LAST-MODIFIED:20240114T223155Z
UID:10002221-1710835200-1710954000@suncityanthemhikingclub.com
SUMMARY:CHIRICAUHA OVERNIGHT SPRING ADVENTURE - 19March2024
DESCRIPTION:Make your plans now to attend our Spring Hiking Adventure to the beautiful Chiricahua Mountains located in Southeast Arizona near the town of Willcox\, AZ. \nTuesday afternoon\, March 19\, we will depart from the Holiday Inn Express for our hikes. Two hikes are planned\, Fort Bowie National Historic Monument and Sugar Loaf Mountain. \nWednesday morning\, March 20\, there will be three hikes in Chiricahua National Monument. \nWe recommend the Holiday Inn Express in Willcox for your overnight stay\, but there are a few more hotels to choose from. Don’t delay in making your reservations. \nRegister for this trip to let us know you are planning to attend. Hike signup will be the Thursday before the hikes.
URL:https://suncityanthemhikingclub.com/hikes/chiricauha-overnight-spring-adventure-19march2024/
LOCATION:AZ 85132 Florence\, United States
CATEGORIES:Hikes,Special Trips
END:VEVENT
END:VCALENDAR