BEGIN:VCALENDAR
VERSION:2.0
PRODID:-//SUN CITY ANTHEM HIKING CLUB - ECPv6.15.15//NONSGML v1.0//EN
CALSCALE:GREGORIAN
METHOD:PUBLISH
X-WR-CALNAME:SUN CITY ANTHEM HIKING CLUB
X-ORIGINAL-URL:https://suncityanthemhikingclub.com
X-WR-CALDESC:Events for SUN CITY ANTHEM HIKING CLUB
REFRESH-INTERVAL;VALUE=DURATION:PT1H
X-Robots-Tag:noindex
X-PUBLISHED-TTL:PT1H
BEGIN:VTIMEZONE
TZID:America/Phoenix
BEGIN:STANDARD
TZOFFSETFROM:-0700
TZOFFSETTO:-0700
TZNAME:MST
DTSTART:20220101T000000
END:STANDARD
END:VTIMEZONE
BEGIN:VEVENT
DTSTART;TZID=America/Phoenix:20231101T080000
DTEND;TZID=America/Phoenix:20231102T170000
DTSTAMP:20260422T133640
CREATED:20230224T204039Z
LAST-MODIFIED:20230414T220818Z
UID:10002101-1698825600-1698944400@suncityanthemhikingclub.com
SUMMARY:Fall Overnight Trip to Page - 2023Nov1
DESCRIPTION:
URL:https://suncityanthemhikingclub.com/hikes/fall-overnight-trip-to-page-1-2-11-2023/
LOCATION:AZ\, 85132\, United States
CATEGORIES:Hikes,Special Trips
END:VEVENT
BEGIN:VEVENT
DTSTART;TZID=America/Phoenix:20231101T103000
DTEND;TZID=America/Phoenix:20231101T150000
DTSTAMP:20260422T133640
CREATED:20230331T184531Z
LAST-MODIFIED:20230609T153957Z
UID:10002156-1698834600-1698850800@suncityanthemhikingclub.com
SUMMARY:Mystical Canyon Tour - 2023Nov1
DESCRIPTION:This sign up is for the semi-private Mystical Canyon Tour. \nEarly registration is required to help the organizers know how many are planning to attend.  The cost of the tour is $80 per person\, including fees and taxes.  Please make sure to have the exact amount in cash. \nGuests (non-hiking club members) are welcome to join us. Please indicate how many people you will be bringing. \nClick the “Register” button above to tell us if you plan to attend. We are looking forward to seeing you there. \nThank you!! \nDirections: Hikers will meet at the Holiday Inn Express in Page.  From Holiday Inn\, Page\, turn right onto South Lake Powell Blvd\, drive 1.3 miles and turn right onto Coppermine Rd.  Drive 1.4 miles and turn left onto AZ98East.  Travel 9.5 miles and turn right to Mystical Antelope Canyon Tours.
URL:https://suncityanthemhikingclub.com/hikes/mystical-canyon-tour/
LOCATION:Holiday Inn Express\, Page\, AZ\, 85132\, United States
CATEGORIES:Hikes,Special Trips
ORGANIZER;CN="Greg Waterman":MAILTO:gregh2oman@gmail.com
GEO:36.90662;-111.47667
END:VEVENT
END:VCALENDAR