BEGIN:VCALENDAR
VERSION:2.0
PRODID:-//SUN CITY ANTHEM HIKING CLUB - ECPv6.15.15//NONSGML v1.0//EN
CALSCALE:GREGORIAN
METHOD:PUBLISH
X-ORIGINAL-URL:https://suncityanthemhikingclub.com
X-WR-CALDESC:Events for SUN CITY ANTHEM HIKING CLUB
REFRESH-INTERVAL;VALUE=DURATION:PT1H
X-Robots-Tag:noindex
X-PUBLISHED-TTL:PT1H
BEGIN:VTIMEZONE
TZID:America/Phoenix
BEGIN:STANDARD
TZOFFSETFROM:-0700
TZOFFSETTO:-0700
TZNAME:MST
DTSTART:20220101T000000
END:STANDARD
END:VTIMEZONE
BEGIN:VEVENT
DTSTART;TZID=America/Phoenix:20230321T080000
DTEND;TZID=America/Phoenix:20230322T170000
DTSTAMP:20260423T024547
CREATED:20220905T220431Z
LAST-MODIFIED:20220924T213746Z
UID:10001382-1679385600-1679504400@suncityanthemhikingclub.com
SUMMARY:Spring Overnight Trip - 21-22Mar2023
DESCRIPTION:Location TBD \n[widget id=”tawhidurrahmandeareightwidget-2″]
URL:https://suncityanthemhikingclub.com/hikes/spring-overnight-trip-21-22mar2023/
LOCATION:AZ\, 85132\, United States
CATEGORIES:Special Trips
END:VEVENT
BEGIN:VEVENT
DTSTART;TZID=America/Phoenix:20230321T140000
DTEND;TZID=America/Phoenix:20230321T150000
DTSTAMP:20260423T024547
CREATED:20230204T193018Z
LAST-MODIFIED:20230302T154637Z
UID:10002088-1679407200-1679410800@suncityanthemhikingclub.com
SUMMARY:Queen Mine Tour - 21Mar2023
DESCRIPTION:Queen Mine Tour \nMartha Scott has arranged for an exclusive tour of the Queen Mine in Bisbee for Hiking Club members and up to one guest\, on Tuesday\, March 21.  Join with fellow hikers and travel by rail car 1500 feet into Queen Mine outfitted in a hard hat\, headlamp and yellow slicker. Learn about the mining days from a retired Phelps Dodge Corporation (last mine operator) employee. \nWe need a minimum of 10 people for this private tour.  If we do not get the minimum number required\, then those who signed up and pre-paid will be reimbursed. Registration will open on Thursday\, February 9th at 7:00 am. We must notify the tour operator of our total headcount in advance\, so registrations will have to close on February 28th at 12:00 pm. \nIf you pre-paid and later need to cancel\, you will not be reimbursed by the club. However\, if you do need to cancel\, we can refer you to the people at the top of the waiting list (if there is one) to take your place. We give you their contact information. Once they have agreed to take your place. We will sign them up in your place and you will need to arrange reimbursement with them separately. To let us know you need to cancel\, please contact Martha Scott at the email address provided below. \nThe tour operators require that you wear closed toe shoes. Also\, no backpacks are allowed. \nQueen Mine Tour \nTuesday\, March 21 \n*Check in time -1:30pm (no exceptions) \nTour 2:00-3:00 pm \nTour is limited to 40 people \n$13.80 per person. You must pay in advance via PayPal. A link for payment will be provided at the time of registration. \nContact Martha Scott for questions at mascott75@icloud.com or 520-840-8868.
URL:https://suncityanthemhikingclub.com/hikes/queen-mine-tour-21mar2023-2/
LOCATION:Bisbee-Queen Mine\, 478 N Dart Road\, Bisbee\, AZ\, United States
CATEGORIES:Special Trips
ORGANIZER;CN="Martha Scott":MAILTO:mascott75@icloud.com
GEO:31.440228;-109.912701
X-APPLE-STRUCTURED-LOCATION;VALUE=URI;X-ADDRESS=Bisbee-Queen Mine 478 N Dart Road Bisbee AZ United States;X-APPLE-RADIUS=500;X-TITLE=478 N Dart Road:geo:-109.912701,31.440228
END:VEVENT
BEGIN:VEVENT
DTSTART;TZID=America/Phoenix:20230321T140000
DTEND;TZID=America/Phoenix:20230321T170000
DTSTAMP:20260423T024547
CREATED:20230221T172412Z
LAST-MODIFIED:20230314T234842Z
UID:10002097-1679407200-1679418000@suncityanthemhikingclub.com
SUMMARY:Bisbee Stair Climb - 21Mar2023
DESCRIPTION:As a unique way to experience the true Bisbee you may like to join Bruce on a small tour of the town via a portion of the world famous 1000 step stair climb. He will meet you out front of the historic Copper Queen Hotel located at 11 Howell Street at 2:00 Tuesday afternoon. We should warn you that these are not like those stairs that led to grandma’s porch. They are steep\, uneven\, narrow and plentiful.
URL:https://suncityanthemhikingclub.com/hikes/bisbee-stair-climb-21mar2023/
LOCATION:Bisbee Copper Queen Hotel\, AZ\, 85132\, United States
CATEGORIES:Hikes,Special Trips
ORGANIZER;CN="Bruce Odegaard":MAILTO:bodegaard1@aol.com
GEO:31.44249;109.91423
END:VEVENT
END:VCALENDAR