BEGIN:VCALENDAR
VERSION:2.0
PRODID:-//SUN CITY ANTHEM HIKING CLUB - ECPv6.15.15//NONSGML v1.0//EN
CALSCALE:GREGORIAN
METHOD:PUBLISH
X-ORIGINAL-URL:https://suncityanthemhikingclub.com
X-WR-CALDESC:Events for SUN CITY ANTHEM HIKING CLUB
REFRESH-INTERVAL;VALUE=DURATION:PT1H
X-Robots-Tag:noindex
X-PUBLISHED-TTL:PT1H
BEGIN:VTIMEZONE
TZID:America/Phoenix
BEGIN:STANDARD
TZOFFSETFROM:-0700
TZOFFSETTO:-0700
TZNAME:MST
DTSTART:20220101T000000
END:STANDARD
END:VTIMEZONE
BEGIN:VEVENT
DTSTART;TZID=America/Phoenix:20231204T150000
DTEND;TZID=America/Phoenix:20231204T170000
DTSTAMP:20260420T215349
CREATED:20230224T212318Z
LAST-MODIFIED:20230224T212318Z
UID:10002106-1701702000-1701709200@suncityanthemhikingclub.com
SUMMARY:General Membership Meeting - 04/12/2023
DESCRIPTION:
URL:https://suncityanthemhikingclub.com/hikes/general-membership-meeting-04-12-2023/
LOCATION:Union Center Ballroom\, AZ\, 85132\, United States
CATEGORIES:General Club Meeting,Meetings
END:VEVENT
BEGIN:VEVENT
DTSTART;TZID=America/Phoenix:20231218T150000
DTEND;TZID=America/Phoenix:20231218T170000
DTSTAMP:20260420T215349
CREATED:20230224T212437Z
LAST-MODIFIED:20230414T203509Z
UID:10002107-1702911600-1702918800@suncityanthemhikingclub.com
SUMMARY:Board Meeting - 2023Dec18
DESCRIPTION:
URL:https://suncityanthemhikingclub.com/hikes/board-meeting-18-12-2023/
LOCATION:AZ\, 85132\, United States
CATEGORIES:Exec and Steering,Meetings
END:VEVENT
END:VCALENDAR