BEGIN:VCALENDAR
VERSION:2.0
PRODID:-//SUN CITY ANTHEM HIKING CLUB - ECPv6.15.15//NONSGML v1.0//EN
CALSCALE:GREGORIAN
METHOD:PUBLISH
X-WR-CALNAME:SUN CITY ANTHEM HIKING CLUB
X-ORIGINAL-URL:https://suncityanthemhikingclub.com
X-WR-CALDESC:Events for SUN CITY ANTHEM HIKING CLUB
REFRESH-INTERVAL;VALUE=DURATION:PT1H
X-Robots-Tag:noindex
X-PUBLISHED-TTL:PT1H
BEGIN:VTIMEZONE
TZID:America/Phoenix
BEGIN:STANDARD
TZOFFSETFROM:-0700
TZOFFSETTO:-0700
TZNAME:MST
DTSTART:20210101T000000
END:STANDARD
END:VTIMEZONE
BEGIN:VEVENT
DTSTART;TZID=America/Phoenix:20221215T090000
DTEND;TZID=America/Phoenix:20221215T110000
DTSTAMP:20260421T180641
CREATED:20220905T213922Z
LAST-MODIFIED:20220916T200336Z
UID:10001376-1671094800-1671102000@suncityanthemhikingclub.com
SUMMARY:Board Meeting - 15Dec2022
DESCRIPTION:
URL:https://suncityanthemhikingclub.com/hikes/board-meeting-15dec2022/
LOCATION:AZ\, 85132\, United States
CATEGORIES:Meetings
END:VEVENT
END:VCALENDAR