BEGIN:VCALENDAR
VERSION:2.0
PRODID:-//SUN CITY ANTHEM HIKING CLUB - ECPv6.15.15//NONSGML v1.0//EN
CALSCALE:GREGORIAN
METHOD:PUBLISH
X-ORIGINAL-URL:https://suncityanthemhikingclub.com
X-WR-CALDESC:Events for SUN CITY ANTHEM HIKING CLUB
REFRESH-INTERVAL;VALUE=DURATION:PT1H
X-Robots-Tag:noindex
X-PUBLISHED-TTL:PT1H
BEGIN:VTIMEZONE
TZID:America/Phoenix
BEGIN:STANDARD
TZOFFSETFROM:-0700
TZOFFSETTO:-0700
TZNAME:MST
DTSTART:20230101T000000
END:STANDARD
END:VTIMEZONE
BEGIN:VEVENT
DTSTART;TZID=America/Phoenix:20240306T071500
DTEND;TZID=America/Phoenix:20240306T170000
DTSTAMP:20260421T172651
CREATED:20231201T192606Z
LAST-MODIFIED:20240208T200958Z
UID:10002195-1709709300-1709744400@suncityanthemhikingclub.com
SUMMARY:Picket Post to Porter's (UI) - 06Mar2024
DESCRIPTION:Hike Detail Page
URL:https://suncityanthemhikingclub.com/hikes/picket-post-to-porters-ui-21feb2024/
LOCATION:Picketpost Trailhead\, AZ\, 85132\, United States
CATEGORIES:Upper Intermediate Hikes
ORGANIZER;CN="Erin Downey":MAILTO:erindowney1@me.com
GEO:33.272654;-111.177004
END:VEVENT
BEGIN:VEVENT
DTSTART;TZID=America/Phoenix:20240313T071500
DTEND;TZID=America/Phoenix:20240313T170000
DTSTAMP:20260421T172651
CREATED:20231201T204539Z
LAST-MODIFIED:20231201T204539Z
UID:10002209-1710314100-1710349200@suncityanthemhikingclub.com
SUMMARY:AZT - Kelvin-Ripsey Wash key exchange (UI) - 13Mar2024
DESCRIPTION:Hike Detail Page
URL:https://suncityanthemhikingclub.com/hikes/azt-kelvin-ripsey-wash-key-exchange-ui-13mar2024/
LOCATION:AZ
CATEGORIES:Upper Intermediate Hikes
ORGANIZER;CN="Erin Downey":MAILTO:erindowney1@me.com
END:VEVENT
BEGIN:VEVENT
DTSTART;TZID=America/Phoenix:20240320T080000
DTEND;TZID=America/Phoenix:20240320T170000
DTSTAMP:20260421T172651
CREATED:20240114T235621Z
LAST-MODIFIED:20240114T235621Z
UID:10002226-1710921600-1710954000@suncityanthemhikingclub.com
SUMMARY:CHIRICAHUA BIG LOOP (UI) - 20Mar2024
DESCRIPTION:Hike Detail Page
URL:https://suncityanthemhikingclub.com/hikes/chiricahua-big-loop-ui-20mar2024/
LOCATION:Chiricahua National Monument
CATEGORIES:Hikes,Upper Intermediate Hikes
ORGANIZER;CN="Bruce Odegaard":MAILTO:bodegaard1@aol.com
END:VEVENT
BEGIN:VEVENT
DTSTART;TZID=America/Phoenix:20240327T070000
DTEND;TZID=America/Phoenix:20240327T170000
DTSTAMP:20260421T172651
CREATED:20231205T182140Z
LAST-MODIFIED:20240224T201432Z
UID:10002215-1711522800-1711558800@suncityanthemhikingclub.com
SUMMARY:Sabino Canyon - Gordon Hirabayashi key exchange (UI) - 27Mar2024
DESCRIPTION:Hike Detail Page
URL:https://suncityanthemhikingclub.com/hikes/sabino-canyon-gordon-hirabayashi-key-exchange-ui-27mar2024/
LOCATION:Gordon Hirabayashi Trail\, AZ\, 85132\, United States
CATEGORIES:Upper Intermediate Hikes
ORGANIZER;CN="Chuck Boxrucker":MAILTO:boxsplace@yahoo.com
GEO:32.337934;110.718831
END:VEVENT
END:VCALENDAR