BEGIN:VCALENDAR
VERSION:2.0
PRODID:-//SUN CITY ANTHEM HIKING CLUB - ECPv6.15.15//NONSGML v1.0//EN
CALSCALE:GREGORIAN
METHOD:PUBLISH
X-WR-CALNAME:SUN CITY ANTHEM HIKING CLUB
X-ORIGINAL-URL:https://suncityanthemhikingclub.com
X-WR-CALDESC:Events for SUN CITY ANTHEM HIKING CLUB
REFRESH-INTERVAL;VALUE=DURATION:PT1H
X-Robots-Tag:noindex
X-PUBLISHED-TTL:PT1H
BEGIN:VTIMEZONE
TZID:America/Phoenix
BEGIN:STANDARD
TZOFFSETFROM:-0700
TZOFFSETTO:-0700
TZNAME:MST
DTSTART:20230101T000000
END:STANDARD
END:VTIMEZONE
BEGIN:VEVENT
DTSTART;TZID=America/Phoenix:20240207T071500
DTEND;TZID=America/Phoenix:20240207T170000
DTSTAMP:20260421T191434
CREATED:20231130T210814Z
LAST-MODIFIED:20231130T210814Z
UID:10002183-1707290100-1707325200@suncityanthemhikingclub.com
SUMMARY:Bluff Springs Loop (UI) - 7Feb2024
DESCRIPTION:Hike Detail Page
URL:https://suncityanthemhikingclub.com/hikes/bluff-springs-loop-ui-7feb2024/
LOCATION:Bluff Springs Loop\, AZ\, 85132\, United States
CATEGORIES:Upper Intermediate Hikes
ORGANIZER;CN="Tracy Mecum":MAILTO:metr7790@outlook.com
GEO:33.397377;-111.34792
END:VEVENT
BEGIN:VEVENT
DTSTART;TZID=America/Phoenix:20240214T071500
DTEND;TZID=America/Phoenix:20240214T170000
DTSTAMP:20260421T191434
CREATED:20231130T212532Z
LAST-MODIFIED:20231130T212532Z
UID:10002188-1707894900-1707930000@suncityanthemhikingclub.com
SUMMARY:Wave Cave (UI) - 14Feb2024
DESCRIPTION:Hike Detail Page
URL:https://suncityanthemhikingclub.com/hikes/wave-cave-ui-14feb2024/
LOCATION:Wave Cave\, AZ\, 85132\, United States
CATEGORIES:Upper Intermediate Hikes
ORGANIZER;CN="Bill Brown":MAILTO:kooljourney@gmail.com
GEO:33.392228;-111.353665
END:VEVENT
BEGIN:VEVENT
DTSTART;TZID=America/Phoenix:20240221T071500
DTEND;TZID=America/Phoenix:20240221T170000
DTSTAMP:20260421T191434
CREATED:20231201T212042Z
LAST-MODIFIED:20240208T201111Z
UID:10002214-1708499700-1708534800@suncityanthemhikingclub.com
SUMMARY:Romero Pools (UI) - 21Feb2024
DESCRIPTION:Hike Detail Page
URL:https://suncityanthemhikingclub.com/hikes/romero-pools-ui-6mar2024-2/
LOCATION:Romero Pools\, AZ\, 85132\, United States
CATEGORIES:Upper Intermediate Hikes
ORGANIZER;CN="Tracy Mecum":MAILTO:metr7790@outlook.com
GEO:32.425683;-110.907976
END:VEVENT
BEGIN:VEVENT
DTSTART;TZID=America/Phoenix:20240228T071500
DTEND;TZID=America/Phoenix:20240228T170000
DTSTAMP:20260421T191434
CREATED:20231201T195807Z
LAST-MODIFIED:20240120T193540Z
UID:10002200-1709104500-1709139600@suncityanthemhikingclub.com
SUMMARY:First Water - Canyon Lake Key Exchange (UI) - 28Feb2024
DESCRIPTION:Hike Detail Page
URL:https://suncityanthemhikingclub.com/hikes/first-water-canyon-lake-key-exchange-ui-28feb2024/
LOCATION:First Water-Canyon Lake Key Exchange\, AZ\, 85132\, United States
CATEGORIES:Upper Intermediate Hikes
ORGANIZER;CN="Chuck Boxrucker":MAILTO:boxsplace@yahoo.com
GEO:33.534;-111.4228
END:VEVENT
END:VCALENDAR