BEGIN:VCALENDAR
VERSION:2.0
PRODID:-//SUN CITY ANTHEM HIKING CLUB - ECPv6.15.15//NONSGML v1.0//EN
CALSCALE:GREGORIAN
METHOD:PUBLISH
X-WR-CALNAME:SUN CITY ANTHEM HIKING CLUB
X-ORIGINAL-URL:https://suncityanthemhikingclub.com
X-WR-CALDESC:Events for SUN CITY ANTHEM HIKING CLUB
REFRESH-INTERVAL;VALUE=DURATION:PT1H
X-Robots-Tag:noindex
X-PUBLISHED-TTL:PT1H
BEGIN:VTIMEZONE
TZID:America/Phoenix
BEGIN:STANDARD
TZOFFSETFROM:-0700
TZOFFSETTO:-0700
TZNAME:MST
DTSTART:20210101T000000
END:STANDARD
END:VTIMEZONE
BEGIN:VEVENT
DTSTART;TZID=America/Phoenix:20221207T071500
DTEND;TZID=America/Phoenix:20221207T170000
DTSTAMP:20260422T185057
CREATED:20220905T201345Z
LAST-MODIFIED:20220905T201345Z
UID:10001359-1670397300-1670432400@suncityanthemhikingclub.com
SUMMARY:Picketpost Circumference (UI) - 07Dec2022
DESCRIPTION:Hike Detail Page
URL:https://suncityanthemhikingclub.com/hikes/picketpost-circumference-ui-07dec2022/
LOCATION:Picketpost Trailhead\, AZ\, 85132\, United States
CATEGORIES:Hikes,Upper Intermediate Hikes
ORGANIZER;CN="Paul Biwan":MAILTO:biwanp@comcast.net
GEO:33.272654;-111.177004
END:VEVENT
BEGIN:VEVENT
DTSTART;TZID=America/Phoenix:20221214T071500
DTEND;TZID=America/Phoenix:20221214T170000
DTSTAMP:20260422T185057
CREATED:20220905T203153Z
LAST-MODIFIED:20220905T203153Z
UID:10001365-1671002100-1671037200@suncityanthemhikingclub.com
SUMMARY:Siphon Draw (UI) - 14Dec2022
DESCRIPTION:Hike Detail Page
URL:https://suncityanthemhikingclub.com/hikes/siphon-draw-ui-14dec2022/
LOCATION:Siphon Draw\, AZ\, 85132\, United States
CATEGORIES:Hikes,Upper Intermediate Hikes
ORGANIZER;CN="Paul Biwan":MAILTO:biwanp@comcast.net
GEO:33.459712;-111.478061
END:VEVENT
END:VCALENDAR