BEGIN:VCALENDAR
VERSION:2.0
PRODID:-//SUN CITY ANTHEM HIKING CLUB - ECPv6.15.15//NONSGML v1.0//EN
CALSCALE:GREGORIAN
METHOD:PUBLISH
X-ORIGINAL-URL:https://suncityanthemhikingclub.com
X-WR-CALDESC:Events for SUN CITY ANTHEM HIKING CLUB
REFRESH-INTERVAL;VALUE=DURATION:PT1H
X-Robots-Tag:noindex
X-PUBLISHED-TTL:PT1H
BEGIN:VTIMEZONE
TZID:America/Phoenix
BEGIN:STANDARD
TZOFFSETFROM:-0700
TZOFFSETTO:-0700
TZNAME:MST
DTSTART:20240101T000000
END:STANDARD
END:VTIMEZONE
BEGIN:VEVENT
DTSTART;TZID=America/Phoenix:20251105T080000
DTEND;TZID=America/Phoenix:20251105T170000
DTSTAMP:20260421T034511
CREATED:20250214T213024Z
LAST-MODIFIED:20250214T213024Z
UID:10002373-1762329600-1762362000@suncityanthemhikingclub.com
SUMMARY:AZT - Picketpost South (S) - Nov 5\,2025
DESCRIPTION:Hike Detail Page
URL:https://suncityanthemhikingclub.com/hikes/azt-picketpost-south-s-nov-52025/
LOCATION:AZT-Picketpost South\, AZ\, 85132\, United States
CATEGORIES:Short Hikes
ORGANIZER;CN="Dave Dobmeier":MAILTO:davidddobmeier@yahoo.com
GEO:33.272654;-111.177004
END:VEVENT
BEGIN:VEVENT
DTSTART;TZID=America/Phoenix:20251112T080000
DTEND;TZID=America/Phoenix:20251112T170000
DTSTAMP:20260421T034511
CREATED:20250215T195523Z
LAST-MODIFIED:20250215T195523Z
UID:10002377-1762934400-1762966800@suncityanthemhikingclub.com
SUMMARY:AZT - Hwy 60 North (S) - Nov 12\,2025
DESCRIPTION:Hike Detail Page
URL:https://suncityanthemhikingclub.com/hikes/azt-hwy-60-north-s-nov-122025/
LOCATION:AZT-Hwy 60 North\, AZ\, 85132\, United States
CATEGORIES:Short Hikes
ORGANIZER;CN="Martha Scott":MAILTO:mascott75@icloud.com
GEO:33.28271;-111.17649
END:VEVENT
BEGIN:VEVENT
DTSTART;TZID=America/Phoenix:20251119T080000
DTEND;TZID=America/Phoenix:20251119T170000
DTSTAMP:20260421T034511
CREATED:20250215T201939Z
LAST-MODIFIED:20250215T201939Z
UID:10002381-1763539200-1763571600@suncityanthemhikingclub.com
SUMMARY:LOST Trail across Queen Creek to the Saddle (S) - Nov 19\,2025
DESCRIPTION:Hike Detail Page
URL:https://suncityanthemhikingclub.com/hikes/lost-trail-across-queen-creek-to-the-saddle-s-nov-192025/
LOCATION:Lost Trail Across Queen Creek
CATEGORIES:Short Hikes
END:VEVENT
BEGIN:VEVENT
DTSTART;TZID=America/Phoenix:20251126T083000
DTEND;TZID=America/Phoenix:20251126T170000
DTSTAMP:20260421T034511
CREATED:20250216T193950Z
LAST-MODIFIED:20251111T025205Z
UID:10002386-1764145800-1764176400@suncityanthemhikingclub.com
SUMMARY:Desperado Trail (S) - Nov 26\,2025
DESCRIPTION:Hike Detail Page
URL:https://suncityanthemhikingclub.com/hikes/desperado-trail-s-nov-262025/
LOCATION:Desperado Trail\, United States
CATEGORIES:Short Hikes
ORGANIZER;CN="Ken Bobey":MAILTO:aapl87-pb@yahoo.com
END:VEVENT
END:VCALENDAR