BEGIN:VCALENDAR
VERSION:2.0
PRODID:-//SUN CITY ANTHEM HIKING CLUB - ECPv6.15.15//NONSGML v1.0//EN
CALSCALE:GREGORIAN
METHOD:PUBLISH
X-WR-CALNAME:SUN CITY ANTHEM HIKING CLUB
X-ORIGINAL-URL:https://suncityanthemhikingclub.com
X-WR-CALDESC:Events for SUN CITY ANTHEM HIKING CLUB
REFRESH-INTERVAL;VALUE=DURATION:PT1H
X-Robots-Tag:noindex
X-PUBLISHED-TTL:PT1H
BEGIN:VTIMEZONE
TZID:America/Phoenix
BEGIN:STANDARD
TZOFFSETFROM:-0700
TZOFFSETTO:-0700
TZNAME:MST
DTSTART:20240101T000000
END:STANDARD
END:VTIMEZONE
BEGIN:VEVENT
DTSTART;TZID=America/Phoenix:20251022T080000
DTEND;TZID=America/Phoenix:20251022T170000
DTSTAMP:20260421T050951
CREATED:20250214T212219Z
LAST-MODIFIED:20250214T212740Z
UID:10002371-1761120000-1761152400@suncityanthemhikingclub.com
SUMMARY:San Tan - Moonlight Trails (S/CI) - Oct 22\,2025
DESCRIPTION:Hike Detail Page
URL:https://suncityanthemhikingclub.com/hikes/san-tan-moonlight-trails-s-oct-222025/
LOCATION:San Tan – Moonlight Trails\, AZ\, 85132\, United States
CATEGORIES:Short Hikes
ORGANIZER;CN="Bill Scott":MAILTO:clscott00@hotmail.com
GEO:33.167889;-111.635905
END:VEVENT
BEGIN:VEVENT
DTSTART;TZID=America/Phoenix:20251029T080000
DTEND;TZID=America/Phoenix:20251029T170000
DTSTAMP:20260421T050951
CREATED:20251022T202638Z
LAST-MODIFIED:20251022T202638Z
UID:10002439-1761724800-1761757200@suncityanthemhikingclub.com
SUMMARY:Treasure Loop Trail (S) - Oct 29\, 2025
DESCRIPTION:Hike Detail Page
URL:https://suncityanthemhikingclub.com/hikes/treasure-loop-trail-s-oct-29-2025/
LOCATION:Lost Dutchman SP – Cholla Day Use\, AZ\, 85132\, United States
CATEGORIES:Short Hikes
ORGANIZER;CN="Martha Scott":MAILTO:mascott75@icloud.com
GEO:33.4606;-111.47784
END:VEVENT
END:VCALENDAR