BEGIN:VCALENDAR
VERSION:2.0
PRODID:-//SUN CITY ANTHEM HIKING CLUB - ECPv6.15.15//NONSGML v1.0//EN
CALSCALE:GREGORIAN
METHOD:PUBLISH
X-ORIGINAL-URL:https://suncityanthemhikingclub.com
X-WR-CALDESC:Events for SUN CITY ANTHEM HIKING CLUB
REFRESH-INTERVAL;VALUE=DURATION:PT1H
X-Robots-Tag:noindex
X-PUBLISHED-TTL:PT1H
BEGIN:VTIMEZONE
TZID:America/Phoenix
BEGIN:STANDARD
TZOFFSETFROM:-0700
TZOFFSETTO:-0700
TZNAME:MST
DTSTART:20240101T000000
END:STANDARD
END:VTIMEZONE
BEGIN:VEVENT
DTSTART;TZID=America/Phoenix:20250305T080000
DTEND;TZID=America/Phoenix:20250305T170000
DTSTAMP:20260421T173318
CREATED:20241206T162720Z
LAST-MODIFIED:20241206T162720Z
UID:10002335-1741161600-1741194000@suncityanthemhikingclub.com
SUMMARY:FIRST WATER TO INDIAN RUINS (S) - Mar 12\,2025
DESCRIPTION:Hike Detail Page
URL:https://suncityanthemhikingclub.com/hikes/first-water-to-indian-ruins-s-mar-122025/
LOCATION:First Water
CATEGORIES:Hikes,Short Hikes
ORGANIZER;CN="Robin Berg":MAILTO:azrobin.berg@gmail.com
END:VEVENT
BEGIN:VEVENT
DTSTART;TZID=America/Phoenix:20250312T080000
DTEND;TZID=America/Phoenix:20250312T170000
DTSTAMP:20260421T173318
CREATED:20241206T165037Z
LAST-MODIFIED:20241206T165037Z
UID:10002339-1741766400-1741798800@suncityanthemhikingclub.com
SUMMARY:White Canyon - South End (S) - Mar 12\,2025
DESCRIPTION:Hike Detail Page
URL:https://suncityanthemhikingclub.com/hikes/white-canyon-south-end-s-mar-122025/
LOCATION:White Canyon South\, AZ\, 85132\, United States
CATEGORIES:Short Hikes
GEO:33.164651;-111.063317
END:VEVENT
BEGIN:VEVENT
DTSTART;TZID=America/Phoenix:20250319T080000
DTEND;TZID=America/Phoenix:20250319T170000
DTSTAMP:20260421T173318
CREATED:20241206T171054Z
LAST-MODIFIED:20241206T171054Z
UID:10002343-1742371200-1742403600@suncityanthemhikingclub.com
SUMMARY:HACKBERRY SPRINGS VIA FIRST WATER RANCH (S) - Mar 19\,2025
DESCRIPTION:Hike Detail Page
URL:https://suncityanthemhikingclub.com/hikes/hackberry-springs-via-first-water-ranch-s-mar-192025/
LOCATION:Hackberry Springs\, AZ\, 85132\, United States
CATEGORIES:Short Hikes
GEO:33.480282;-111.443075
END:VEVENT
BEGIN:VEVENT
DTSTART;TZID=America/Phoenix:20250326T080000
DTEND;TZID=America/Phoenix:20250326T170000
DTSTAMP:20260421T173318
CREATED:20241206T174226Z
LAST-MODIFIED:20241206T174226Z
UID:10002347-1742976000-1743008400@suncityanthemhikingclub.com
SUMMARY:LOST Trail to Porter's (S) - Mar 26\,2025
DESCRIPTION:Hike Detail Page
URL:https://suncityanthemhikingclub.com/hikes/lost-trail-to-porters-s-mar-262025/
LOCATION:LOST Trail to Porter’s\, AZ\, 85132\, United States
CATEGORIES:Short Hikes
ORGANIZER;CN="Robin Berg":MAILTO:azrobin.berg@gmail.com
GEO:33.28117;-111.12592
END:VEVENT
END:VCALENDAR