BEGIN:VCALENDAR
VERSION:2.0
PRODID:-//SUN CITY ANTHEM HIKING CLUB - ECPv6.15.15//NONSGML v1.0//EN
CALSCALE:GREGORIAN
METHOD:PUBLISH
X-ORIGINAL-URL:https://suncityanthemhikingclub.com
X-WR-CALDESC:Events for SUN CITY ANTHEM HIKING CLUB
REFRESH-INTERVAL;VALUE=DURATION:PT1H
X-Robots-Tag:noindex
X-PUBLISHED-TTL:PT1H
BEGIN:VTIMEZONE
TZID:America/Phoenix
BEGIN:STANDARD
TZOFFSETFROM:-0700
TZOFFSETTO:-0700
TZNAME:MST
DTSTART:20240101T000000
END:STANDARD
END:VTIMEZONE
BEGIN:VEVENT
DTSTART;TZID=America/Phoenix:20250101T074500
DTEND;TZID=America/Phoenix:20250101T170000
DTSTAMP:20260421T211700
CREATED:20240308T202138Z
LAST-MODIFIED:20240308T202310Z
UID:10002260-1735717500-1735750800@suncityanthemhikingclub.com
SUMMARY:Desperado Trail (S-CI) - 01Jan2025
DESCRIPTION:Hike Detail Page
URL:https://suncityanthemhikingclub.com/hikes/desperado-trail-s-ci-01jan2025/
LOCATION:Peralta Regional Park\, AZ\, 85132\, United States
CATEGORIES:Casual Intermediate Hikes,Hikes,Short Hikes
ORGANIZER;CN="Bill Scott":MAILTO:clscott00@hotmail.com
GEO:33..647222;-111.370833
END:VEVENT
BEGIN:VEVENT
DTSTART;TZID=America/Phoenix:20250108T080000
DTEND;TZID=America/Phoenix:20250108T170000
DTSTAMP:20260421T211700
CREATED:20241004T180745Z
LAST-MODIFIED:20241004T181011Z
UID:10002276-1736323200-1736355600@suncityanthemhikingclub.com
SUMMARY:Hieroglyphic Trail (S) - 8Jan25
DESCRIPTION:Hike Detail Page\n  \nSpecial Instructions: \nThis is an out-and-back hike on a rocky trail. There are petroglyphs\, and great views of the Superstitions. Bring water and a snack. \nDirections: \nTake Felix Rd to Arizona Farms Rd\, turn right. Turn left on AZ 79 to Hwy 60 West and follow Hwy 60 West. Turn right on Kings Ranch Rd\, at stoplight (milepost 203). Turn right on Baseline. Turn left on Mohican. Turn left on Valley View Dr\, it curves onto Whitetail Rd. Turn right on Cloudview and proceed to the trailhead parking lot.
URL:https://suncityanthemhikingclub.com/hikes/hieroglyphic-trail-s-8jan25/
LOCATION:Hieroglyphic Trail Head\, AZ\, 85132\, United States
CATEGORIES:Hikes,Short Hikes
GEO:33.389745;-111.424699
END:VEVENT
BEGIN:VEVENT
DTSTART;TZID=America/Phoenix:20250111T080000
DTEND;TZID=America/Phoenix:20250111T170000
DTSTAMP:20260421T211700
CREATED:20241125T202425Z
LAST-MODIFIED:20241125T202618Z
UID:10002301-1736582400-1736614800@suncityanthemhikingclub.com
SUMMARY:TEXAS CANYON (S) - Jan 11\,2025
DESCRIPTION:Hike Detail Page
URL:https://suncityanthemhikingclub.com/hikes/texas-canyon-s-jan-112025/
LOCATION:Texas Canyon Nature Preserve
CATEGORIES:Hikes,Short Hikes,Special Hikes
ORGANIZER;CN="Bill Scott":MAILTO:clscott00@hotmail.com
END:VEVENT
BEGIN:VEVENT
DTSTART;TZID=America/Phoenix:20250115T080000
DTEND;TZID=America/Phoenix:20250115T170000
DTSTAMP:20260421T211700
CREATED:20241126T182202Z
LAST-MODIFIED:20241126T182202Z
UID:10002306-1736928000-1736960400@suncityanthemhikingclub.com
SUMMARY:FIRST WATER – WINDMILL – DUTCHMAN LOOP (S) - Jan 15\,2025
DESCRIPTION:Hike Detail Page
URL:https://suncityanthemhikingclub.com/hikes/first-water-windmill-dutchman-loop-s-jan-152025/
LOCATION:First Water
CATEGORIES:Hikes,Short Hikes
END:VEVENT
BEGIN:VEVENT
DTSTART;TZID=America/Phoenix:20250122T080000
DTEND;TZID=America/Phoenix:20250122T170000
DTSTAMP:20260421T211700
CREATED:20250114T204738Z
LAST-MODIFIED:20250114T204809Z
UID:10002367-1737532800-1737565200@suncityanthemhikingclub.com
SUMMARY:AZT-Florence Kelvin Rd North - (S) - Jan 22\,2025
DESCRIPTION:Hike Detail Page
URL:https://suncityanthemhikingclub.com/hikes/azt-florence-kelvin-rd-north-s-jan-222025/
LOCATION:AZT-Kelvin North\, AZ\, 85132\, United States
CATEGORIES:Short Hikes
ORGANIZER;CN="Dave Dobmeier":MAILTO:davidddobmeier@yahoo.com
GEO:33.106527;-110.979176
END:VEVENT
BEGIN:VEVENT
DTSTART;TZID=America/Phoenix:20250129T080000
DTEND;TZID=America/Phoenix:20250129T170000
DTSTAMP:20260421T211700
CREATED:20241126T185348Z
LAST-MODIFIED:20241126T185348Z
UID:10002315-1738137600-1738170000@suncityanthemhikingclub.com
SUMMARY:Casa Grande Mountain Park (S) - Jan 29\,2025
DESCRIPTION:Hike Detail Page
URL:https://suncityanthemhikingclub.com/hikes/casa-grande-mountain-park-s-jan-292025/
LOCATION:Casa Grande Mountain Park\, AZ\, 85132\, United States
CATEGORIES:Hikes,Short Hikes
ORGANIZER;CN="Robin Berg":MAILTO:azrobin.berg@gmail.com
GEO:32.83222;-111.711338
END:VEVENT
END:VCALENDAR