BEGIN:VCALENDAR
VERSION:2.0
PRODID:-//SUN CITY ANTHEM HIKING CLUB - ECPv6.15.15//NONSGML v1.0//EN
CALSCALE:GREGORIAN
METHOD:PUBLISH
X-WR-CALNAME:SUN CITY ANTHEM HIKING CLUB
X-ORIGINAL-URL:https://suncityanthemhikingclub.com
X-WR-CALDESC:Events for SUN CITY ANTHEM HIKING CLUB
REFRESH-INTERVAL;VALUE=DURATION:PT1H
X-Robots-Tag:noindex
X-PUBLISHED-TTL:PT1H
BEGIN:VTIMEZONE
TZID:America/Phoenix
BEGIN:STANDARD
TZOFFSETFROM:-0700
TZOFFSETTO:-0700
TZNAME:MST
DTSTART:20230101T000000
END:STANDARD
END:VTIMEZONE
BEGIN:VEVENT
DTSTART;TZID=America/Phoenix:20241204T080000
DTEND;TZID=America/Phoenix:20241204T170000
DTSTAMP:20260421T230149
CREATED:20240307T215713Z
LAST-MODIFIED:20240307T215713Z
UID:10002248-1733299200-1733331600@suncityanthemhikingclub.com
SUMMARY:GOLDFIELD OVEN HIKE  (S) - 04Dec2024
DESCRIPTION:Hike Detail Page
URL:https://suncityanthemhikingclub.com/hikes/goldfield-oven-hike-s-04dec2024/
LOCATION:Goldfield Ovens\, AZ\, 85132\, United States
CATEGORIES:Hikes,Short Hikes
GEO:33.554696;-111.572365
END:VEVENT
BEGIN:VEVENT
DTSTART;TZID=America/Phoenix:20241211T080000
DTEND;TZID=America/Phoenix:20241211T170000
DTSTAMP:20260421T230149
CREATED:20241204T192315Z
LAST-MODIFIED:20241204T192315Z
UID:10002330-1733904000-1733936400@suncityanthemhikingclub.com
SUMMARY:Dutchman Trail East (S) - Dec 11\,2024
DESCRIPTION:Hike Detail Page
URL:https://suncityanthemhikingclub.com/hikes/dutchman-trail-east-s-dec-112024/
LOCATION:Dutchman Trail East\, AZ\, 85132\, United States
CATEGORIES:Hikes,Short Hikes
ORGANIZER;CN="Robin Berg":MAILTO:azrobin.berg@gmail.com
GEO:33.397377;-111.34792
END:VEVENT
BEGIN:VEVENT
DTSTART;TZID=America/Phoenix:20241218T080000
DTEND;TZID=America/Phoenix:20241218T170000
DTSTAMP:20260421T230149
CREATED:20240308T200140Z
LAST-MODIFIED:20240308T200140Z
UID:10002256-1734508800-1734541200@suncityanthemhikingclub.com
SUMMARY:Treasure Loop Trail (S) - 18Dec2024
DESCRIPTION:Hike Detail Page
URL:https://suncityanthemhikingclub.com/hikes/treasure-loop-trail-s-18dec2024/
LOCATION:Treasure Loop Trail\, AZ\, 85132\, United States
CATEGORIES:Hikes,Short Hikes
GEO:33.46111;-111.47753
END:VEVENT
END:VCALENDAR