BEGIN:VCALENDAR
VERSION:2.0
PRODID:-//SUN CITY ANTHEM HIKING CLUB - ECPv6.15.15//NONSGML v1.0//EN
CALSCALE:GREGORIAN
METHOD:PUBLISH
X-ORIGINAL-URL:https://suncityanthemhikingclub.com
X-WR-CALDESC:Events for SUN CITY ANTHEM HIKING CLUB
REFRESH-INTERVAL;VALUE=DURATION:PT1H
X-Robots-Tag:noindex
X-PUBLISHED-TTL:PT1H
BEGIN:VTIMEZONE
TZID:America/Phoenix
BEGIN:STANDARD
TZOFFSETFROM:-0700
TZOFFSETTO:-0700
TZNAME:MST
DTSTART:20230101T000000
END:STANDARD
END:VTIMEZONE
BEGIN:VEVENT
DTSTART;TZID=America/Phoenix:20241106T080000
DTEND;TZID=America/Phoenix:20241106T170000
DTSTAMP:20260422T004019
CREATED:20240307T204634Z
LAST-MODIFIED:20240307T204730Z
UID:10002235-1730880000-1730912400@suncityanthemhikingclub.com
SUMMARY:BLEVINS-CAT PEAK LOOP (S) - 06Nov2024
DESCRIPTION:Hike Detail Page
URL:https://suncityanthemhikingclub.com/hikes/blevins-cat-peak-loop-s-06nov2024/
LOCATION:Blevins County Line Loop\, AZ\, 85132\, United States
CATEGORIES:Hikes,Short Hikes
ORGANIZER;CN="Bill Scott":MAILTO:clscott00@hotmail.com
GEO:33.465797;-111.610959
END:VEVENT
BEGIN:VEVENT
DTSTART;TZID=America/Phoenix:20241113T080000
DTEND;TZID=America/Phoenix:20241113T170000
DTSTAMP:20260422T004019
CREATED:20240307T211421Z
LAST-MODIFIED:20240307T211421Z
UID:10002239-1731484800-1731517200@suncityanthemhikingclub.com
SUMMARY:Arnett Canyon - Apache Tears (S) - 13Nov2024
DESCRIPTION:Hike Detail Page
URL:https://suncityanthemhikingclub.com/hikes/arnett-canyon-apache-tears-s-13nov2024/
LOCATION:Arnett Canyon\, AZ\, 85132\, United States
CATEGORIES:Hikes,Short Hikes
ORGANIZER;CN="Robin Berg":MAILTO:azrobin.berg@gmail.com
GEO:33.272654;-111.177004
END:VEVENT
BEGIN:VEVENT
DTSTART;TZID=America/Phoenix:20241120T080000
DTEND;TZID=America/Phoenix:20241120T170000
DTSTAMP:20260422T004019
CREATED:20241104T184855Z
LAST-MODIFIED:20241104T185018Z
UID:10002286-1732089600-1732122000@suncityanthemhikingclub.com
SUMMARY:San Tan - Goldmine Trail to Ridge (S) - Nov 20\,2024
DESCRIPTION:Hike Detail Page
URL:https://suncityanthemhikingclub.com/hikes/san-tan-goldmine-trail-to-ridge-s-nov-202024/
LOCATION:San Tan – Goldmine Trail to Ridge\, AZ\, 85132\, United States
CATEGORIES:Hikes,Short Hikes
GEO:33.167889;-111.635905
END:VEVENT
BEGIN:VEVENT
DTSTART;TZID=America/Phoenix:20241127T081500
DTEND;TZID=America/Phoenix:20241127T170000
DTSTAMP:20260422T004019
CREATED:20241105T180113Z
LAST-MODIFIED:20241105T180113Z
UID:10002287-1732695300-1732726800@suncityanthemhikingclub.com
SUMMARY:Dutchman Trail East (S) - Nov 27\,2024
DESCRIPTION:Hike Detail Page
URL:https://suncityanthemhikingclub.com/hikes/dutchman-trail-east-s-nov-272024/
LOCATION:Dutchman Trail East\, AZ\, 85132\, United States
CATEGORIES:Hikes,Short Hikes
ORGANIZER;CN="Bill Scott":MAILTO:clscott00@hotmail.com
GEO:33.397377;-111.34792
END:VEVENT
END:VCALENDAR