BEGIN:VCALENDAR
VERSION:2.0
PRODID:-//SUN CITY ANTHEM HIKING CLUB - ECPv6.15.15//NONSGML v1.0//EN
CALSCALE:GREGORIAN
METHOD:PUBLISH
X-WR-CALNAME:SUN CITY ANTHEM HIKING CLUB
X-ORIGINAL-URL:https://suncityanthemhikingclub.com
X-WR-CALDESC:Events for SUN CITY ANTHEM HIKING CLUB
REFRESH-INTERVAL;VALUE=DURATION:PT1H
X-Robots-Tag:noindex
X-PUBLISHED-TTL:PT1H
BEGIN:VTIMEZONE
TZID:America/Phoenix
BEGIN:STANDARD
TZOFFSETFROM:-0700
TZOFFSETTO:-0700
TZNAME:MST
DTSTART:20230101T000000
END:STANDARD
END:VTIMEZONE
BEGIN:VEVENT
DTSTART;TZID=America/Phoenix:20240103T073000
DTEND;TZID=America/Phoenix:20240103T170000
DTSTAMP:20260421T144449
CREATED:20230319T223715Z
LAST-MODIFIED:20230319T223715Z
UID:10002153-1704267000-1704301200@suncityanthemhikingclub.com
SUMMARY:Butcher Jones Trail\, Saguaro Lake (I) - 2024Jan03
DESCRIPTION:Hike Detail Page
URL:https://suncityanthemhikingclub.com/hikes/butcher-jones-trail-saguaro-lake-i-2024jan03/
LOCATION:Butcher Jones Trail\, AZ\, 85132\, United States
CATEGORIES:Hikes,Intermediate Hikes
ORGANIZER;CN="Susan Dona":MAILTO:sedona549@gmail.com
GEO:33.575597;-111.514405
END:VEVENT
BEGIN:VEVENT
DTSTART;TZID=America/Phoenix:20240110T073000
DTEND;TZID=America/Phoenix:20240110T170000
DTSTAMP:20260421T144449
CREATED:20231129T000115Z
LAST-MODIFIED:20231129T000115Z
UID:10002167-1704871800-1704906000@suncityanthemhikingclub.com
SUMMARY:Parker Pass (I) - 10Jan2024
DESCRIPTION:Hike Detail Page
URL:https://suncityanthemhikingclub.com/hikes/parker-pass-i-10jan2024/
LOCATION:Parker Pass\, AZ\, 85132\, United States
CATEGORIES:Intermediate Hikes
ORGANIZER;CN="Patrick Dwyer":MAILTO:p_pal_d@yahoo.com
GEO:33.480282;-111.443075
END:VEVENT
BEGIN:VEVENT
DTSTART;TZID=America/Phoenix:20240117T073000
DTEND;TZID=America/Phoenix:20240117T170000
DTSTAMP:20260421T144449
CREATED:20231130T203317Z
LAST-MODIFIED:20231130T203317Z
UID:10002175-1705476600-1705510800@suncityanthemhikingclub.com
SUMMARY:Sutherland Trail (I) - 17Jan2024
DESCRIPTION:Hike Detail Page
URL:https://suncityanthemhikingclub.com/hikes/sutherland-trail-i-17jan2024/
LOCATION:Sutherland Trail\, AZ\, 85132\, United States
CATEGORIES:Intermediate Hikes
ORGANIZER;CN="Chris Manss":MAILTO:chrisbub23@hotmail.com
GEO:32.425683;-110.907976
END:VEVENT
BEGIN:VEVENT
DTSTART;TZID=America/Phoenix:20240124T073000
DTEND;TZID=America/Phoenix:20240124T170000
DTSTAMP:20260421T144449
CREATED:20231130T202522Z
LAST-MODIFIED:20240121T155446Z
UID:10002173-1706081400-1706115600@suncityanthemhikingclub.com
SUMMARY:Massacre Grounds (I) - 24Jan2024
DESCRIPTION:Hike Detail Page
URL:https://suncityanthemhikingclub.com/hikes/massacre-grounds-i-24jan2024/
LOCATION:Massacre Grounds\, AZ\, 85132\, United States
CATEGORIES:Intermediate Hikes
ORGANIZER;CN="Bill Brown":MAILTO:kooljourney@gmail.com
GEO:33.4715;-111.46927
END:VEVENT
BEGIN:VEVENT
DTSTART;TZID=America/Phoenix:20240131T073000
DTEND;TZID=America/Phoenix:20240131T170000
DTSTAMP:20260421T144449
CREATED:20231130T204825Z
LAST-MODIFIED:20231130T204825Z
UID:10002178-1706686200-1706720400@suncityanthemhikingclub.com
SUMMARY:Bulldog Canyon Trail (I) - 31Jan2024
DESCRIPTION:Hike Detail Page
URL:https://suncityanthemhikingclub.com/hikes/bulldog-canyon-trail-i-31jan2024/
LOCATION:Bulldog Canyon Loop\, AZ\, 85132\, United States
CATEGORIES:Intermediate Hikes
ORGANIZER;CN="Chris Manss":MAILTO:chrisbub23@hotmail.com
GEO:33.50111;-111.46256
END:VEVENT
END:VCALENDAR