BEGIN:VCALENDAR
VERSION:2.0
PRODID:-//SUN CITY ANTHEM HIKING CLUB - ECPv6.15.15//NONSGML v1.0//EN
CALSCALE:GREGORIAN
METHOD:PUBLISH
X-WR-CALNAME:SUN CITY ANTHEM HIKING CLUB
X-ORIGINAL-URL:https://suncityanthemhikingclub.com
X-WR-CALDESC:Events for SUN CITY ANTHEM HIKING CLUB
REFRESH-INTERVAL;VALUE=DURATION:PT1H
X-Robots-Tag:noindex
X-PUBLISHED-TTL:PT1H
BEGIN:VTIMEZONE
TZID:America/Phoenix
BEGIN:STANDARD
TZOFFSETFROM:-0700
TZOFFSETTO:-0700
TZNAME:MST
DTSTART:20220101T000000
END:STANDARD
END:VTIMEZONE
BEGIN:VEVENT
DTSTART;TZID=America/Phoenix:20231102T080000
DTEND;TZID=America/Phoenix:20231102T170000
DTSTAMP:20260421T180113
CREATED:20230817T195747Z
LAST-MODIFIED:20230817T201225Z
UID:10002157-1698912000-1698944400@suncityanthemhikingclub.com
SUMMARY:Buckskin Gulch (I/UI/A) - 02Nov2023
DESCRIPTION:Hike Detail Page
URL:https://suncityanthemhikingclub.com/hikes/buckskin-gulch-i-ui-a-2nov2023/
LOCATION:Buckskin Gulch
CATEGORIES:Advanced Hikes,Hikes,Intermediate Hikes,Upper Intermediate Hikes
ORGANIZER;CN="Greg Waterman":MAILTO:gregh2oman@gmail.com
END:VEVENT
BEGIN:VEVENT
DTSTART;TZID=America/Phoenix:20231108T073000
DTEND;TZID=America/Phoenix:20231108T170000
DTSTAMP:20260421T180113
CREATED:20230319T204840Z
LAST-MODIFIED:20230319T204840Z
UID:10002124-1699428600-1699462800@suncityanthemhikingclub.com
SUMMARY:AZT - Picketpost South (I) - 2023Nov08
DESCRIPTION:Hike Detail Page
URL:https://suncityanthemhikingclub.com/hikes/azt-picketpost-south-i-2023nov08/
LOCATION:Picketpost Trailhead\, AZ\, 85132\, United States
CATEGORIES:Hikes,Intermediate Hikes
GEO:33.272654;-111.177004
END:VEVENT
BEGIN:VEVENT
DTSTART;TZID=America/Phoenix:20231115T073000
DTEND;TZID=America/Phoenix:20231115T170000
DTSTAMP:20260421T180113
CREATED:20230319T210545Z
LAST-MODIFIED:20231108T204041Z
UID:10002127-1700033400-1700067600@suncityanthemhikingclub.com
SUMMARY:Queen Creek Old Hwy 60 (I) - 2023Nov15
DESCRIPTION:Hike Detail Page
URL:https://suncityanthemhikingclub.com/hikes/queen-creek-old-hwy-60-i-2023nov15/
LOCATION:Queen Creek/Old Hwy 60\, AZ\, 85132\, United States
CATEGORIES:Hikes,Intermediate Hikes
ORGANIZER;CN="Carol McLean":MAILTO:c.mclean@shaw.ca
GEO:33.29245;-111.09433
END:VEVENT
BEGIN:VEVENT
DTSTART;TZID=America/Phoenix:20231122T083000
DTEND;TZID=America/Phoenix:20231122T170000
DTSTAMP:20260421T180113
CREATED:20231107T232446Z
LAST-MODIFIED:20231107T232946Z
UID:10002162-1700641800-1700672400@suncityanthemhikingclub.com
SUMMARY:Desperado-Star Gazing-Oro Vista Trails (I) - 22Nov2023
DESCRIPTION:Hike Detail Page
URL:https://suncityanthemhikingclub.com/hikes/desperado-star-gazing-oro-vista-trails-i-22nov2023/
LOCATION:Peralta Regional Park\, AZ\, 85132\, United States
CATEGORIES:Hikes,Intermediate Hikes
ORGANIZER;CN="Greg Waterman":MAILTO:gregh2oman@gmail.com
GEO:33..647222;-111.370833
END:VEVENT
BEGIN:VEVENT
DTSTART;TZID=America/Phoenix:20231129T073000
DTEND;TZID=America/Phoenix:20231129T170000
DTSTAMP:20260421T180113
CREATED:20230319T212346Z
LAST-MODIFIED:20230319T212346Z
UID:10002131-1701243000-1701277200@suncityanthemhikingclub.com
SUMMARY:Wave Cave (I) - 2023Nov29
DESCRIPTION:Hike Detail Page
URL:https://suncityanthemhikingclub.com/hikes/wave-cave-i-2023nov29/
LOCATION:Wave Cave\, AZ\, 85132\, United States
CATEGORIES:Hikes,Intermediate Hikes
ORGANIZER;CN="Patrick Dwyer":MAILTO:p_pal_d@yahoo.com
GEO:33.392228;-111.353665
END:VEVENT
END:VCALENDAR