BEGIN:VCALENDAR
VERSION:2.0
PRODID:-//SUN CITY ANTHEM HIKING CLUB - ECPv6.15.15//NONSGML v1.0//EN
CALSCALE:GREGORIAN
METHOD:PUBLISH
X-WR-CALNAME:SUN CITY ANTHEM HIKING CLUB
X-ORIGINAL-URL:https://suncityanthemhikingclub.com
X-WR-CALDESC:Events for SUN CITY ANTHEM HIKING CLUB
REFRESH-INTERVAL;VALUE=DURATION:PT1H
X-Robots-Tag:noindex
X-PUBLISHED-TTL:PT1H
BEGIN:VTIMEZONE
TZID:America/Phoenix
BEGIN:STANDARD
TZOFFSETFROM:-0700
TZOFFSETTO:-0700
TZNAME:MST
DTSTART:20220101T000000
END:STANDARD
END:VTIMEZONE
BEGIN:VEVENT
DTSTART;TZID=America/Phoenix:20230201T073000
DTEND;TZID=America/Phoenix:20230201T170000
DTSTAMP:20260422T093420
CREATED:20221210T023543Z
LAST-MODIFIED:20230124T225230Z
UID:10002036-1675236600-1675270800@suncityanthemhikingclub.com
SUMMARY:Sunset Vista Trail (I) - 01Feb2023
DESCRIPTION:Hike Detail Page
URL:https://suncityanthemhikingclub.com/hikes/sunset-vista-trail-i-01feb2023/
LOCATION:Sunset Vista Trail\, AZ\, 85132\, United States
CATEGORIES:Hikes,Intermediate Hikes
ORGANIZER;CN="Carol McLean":MAILTO:c.mclean@shaw.ca
GEO:32.647733;-111.429109
END:VEVENT
BEGIN:VEVENT
DTSTART;TZID=America/Phoenix:20230208T073000
DTEND;TZID=America/Phoenix:20230208T170000
DTSTAMP:20260422T093420
CREATED:20221210T024949Z
LAST-MODIFIED:20230124T225514Z
UID:10002040-1675841400-1675875600@suncityanthemhikingclub.com
SUMMARY:Arnett Canyon - Apache Tears with Overlook (I) - 08Feb2023
DESCRIPTION:Hike Detail Page
URL:https://suncityanthemhikingclub.com/hikes/arnett-canyon-apache-tears-with-overlook-i-08feb2023/
LOCATION:Apache Tears\, AZ\, 85132\, United States
CATEGORIES:Hikes,Intermediate Hikes
ORGANIZER;CN="Carol McLean":MAILTO:c.mclean@shaw.ca
GEO:33.26102;-111.12188
END:VEVENT
BEGIN:VEVENT
DTSTART;TZID=America/Phoenix:20230215T073000
DTEND;TZID=America/Phoenix:20230215T170000
DTSTAMP:20260422T093420
CREATED:20221210T030259Z
LAST-MODIFIED:20230124T230240Z
UID:10002044-1676446200-1676480400@suncityanthemhikingclub.com
SUMMARY:Hieroglyphic Trail (I) - 15Feb2023
DESCRIPTION:Hike Detail Page
URL:https://suncityanthemhikingclub.com/hikes/hieroglyphic-trail-i-15feb2023/
LOCATION:Hieroglyphic Trail Head\, AZ\, 85132\, United States
CATEGORIES:Hikes,Intermediate Hikes
GEO:33.389745;-111.424699
END:VEVENT
BEGIN:VEVENT
DTSTART;TZID=America/Phoenix:20230222T073000
DTEND;TZID=America/Phoenix:20230222T170000
DTSTAMP:20260422T093420
CREATED:20221210T031444Z
LAST-MODIFIED:20230215T231850Z
UID:10002048-1677051000-1677085200@suncityanthemhikingclub.com
SUMMARY:Massacre Grounds (I) - 22Feb2023
DESCRIPTION:Hike Detail Page
URL:https://suncityanthemhikingclub.com/hikes/massacre-grounds-i-22feb2023/
LOCATION:Massacre Grounds\, AZ\, 85132\, United States
CATEGORIES:Hikes,Intermediate Hikes
ORGANIZER;CN="Chris Manss":MAILTO:chrisbub23@hotmail.com
GEO:33.4715;-111.46927
END:VEVENT
END:VCALENDAR