BEGIN:VCALENDAR
VERSION:2.0
PRODID:-//SUN CITY ANTHEM HIKING CLUB - ECPv6.15.15//NONSGML v1.0//EN
CALSCALE:GREGORIAN
METHOD:PUBLISH
X-WR-CALNAME:SUN CITY ANTHEM HIKING CLUB
X-ORIGINAL-URL:https://suncityanthemhikingclub.com
X-WR-CALDESC:Events for SUN CITY ANTHEM HIKING CLUB
REFRESH-INTERVAL;VALUE=DURATION:PT1H
X-Robots-Tag:noindex
X-PUBLISHED-TTL:PT1H
BEGIN:VTIMEZONE
TZID:America/Phoenix
BEGIN:STANDARD
TZOFFSETFROM:-0700
TZOFFSETTO:-0700
TZNAME:MST
DTSTART:20210101T000000
END:STANDARD
END:VTIMEZONE
BEGIN:VEVENT
DTSTART;TZID=America/Phoenix:20221207T073000
DTEND;TZID=America/Phoenix:20221207T170000
DTSTAMP:20260422T132526
CREATED:20220905T200936Z
LAST-MODIFIED:20221202T214640Z
UID:10001357-1670398200-1670432400@suncityanthemhikingclub.com
SUMMARY:Seven Falls via Bear Canyon Trail (I) - 07Dec2022
DESCRIPTION:Hike Detail Page
URL:https://suncityanthemhikingclub.com/hikes/seven-falls-via-bear-canyon-trail-i-07dec2022/
LOCATION:Seven Falls\, AZ\, 85132\, United States
CATEGORIES:Hikes,Intermediate Hikes
ORGANIZER;CN="Susan Dona":MAILTO:sedona549@gmail.com
GEO:32.309953;-110.82366
END:VEVENT
BEGIN:VEVENT
DTSTART;TZID=America/Phoenix:20221214T073000
DTEND;TZID=America/Phoenix:20221214T170000
DTSTAMP:20260422T132526
CREATED:20220905T202848Z
LAST-MODIFIED:20220905T202848Z
UID:10001363-1671003000-1671037200@suncityanthemhikingclub.com
SUMMARY:Coffee Flats (I) - 14Dec2022
DESCRIPTION:Hike Detail Page
URL:https://suncityanthemhikingclub.com/hikes/coffee-flats-i-14dec2022/
LOCATION:Coffee Flats\, AZ\, 85132\, United States
CATEGORIES:Hikes,Intermediate Hikes
GEO:33.397377;-111.34792
END:VEVENT
BEGIN:VEVENT
DTSTART;TZID=America/Phoenix:20221221T073000
DTEND;TZID=America/Phoenix:20221221T170000
DTSTAMP:20260422T132526
CREATED:20220905T201206Z
LAST-MODIFIED:20220905T204931Z
UID:10001358-1671607800-1671642000@suncityanthemhikingclub.com
SUMMARY:AZT - Kelvin North (I/UI) - 21Dec2022
DESCRIPTION:Hike Detail Page
URL:https://suncityanthemhikingclub.com/hikes/azt-kelvin-north-i/
LOCATION:AZT-Kelvin North\, AZ\, 85132\, United States
CATEGORIES:Hikes,Intermediate Hikes
ORGANIZER;CN="Tracy Mecum":MAILTO:metr7790@outlook.com
GEO:33.106527;-110.979176
END:VEVENT
BEGIN:VEVENT
DTSTART;TZID=America/Phoenix:20221228T073000
DTEND;TZID=America/Phoenix:20221228T170000
DTSTAMP:20260422T132526
CREATED:20220905T205210Z
LAST-MODIFIED:20220905T205305Z
UID:10001368-1672212600-1672246800@suncityanthemhikingclub.com
SUMMARY:San Tan - Moonlight Loop (I/UI) - 28Dec2022
DESCRIPTION:Hike Detail Page
URL:https://suncityanthemhikingclub.com/hikes/san-tan-moonlight-loop-i-ui-28dec2022/
LOCATION:San Tan Moonlight Loop\, AZ\, 85132\, United States
CATEGORIES:Hikes,Intermediate Hikes
ORGANIZER;CN="Becky Anderson":MAILTO:beckyanderson9496@gmail.com
GEO:33.167889;-111.635905
END:VEVENT
END:VCALENDAR