BEGIN:VCALENDAR
VERSION:2.0
PRODID:-//SUN CITY ANTHEM HIKING CLUB - ECPv6.15.15//NONSGML v1.0//EN
CALSCALE:GREGORIAN
METHOD:PUBLISH
X-ORIGINAL-URL:https://suncityanthemhikingclub.com
X-WR-CALDESC:Events for SUN CITY ANTHEM HIKING CLUB
REFRESH-INTERVAL;VALUE=DURATION:PT1H
X-Robots-Tag:noindex
X-PUBLISHED-TTL:PT1H
BEGIN:VTIMEZONE
TZID:America/Phoenix
BEGIN:STANDARD
TZOFFSETFROM:-0700
TZOFFSETTO:-0700
TZNAME:MST
DTSTART:20210101T000000
END:STANDARD
END:VTIMEZONE
BEGIN:VEVENT
DTSTART;TZID=America/Phoenix:20221102T073000
DTEND;TZID=America/Phoenix:20221102T170000
DTSTAMP:20260422T150811
CREATED:20220904T235100Z
LAST-MODIFIED:20220905T125448Z
UID:10001340-1667374200-1667408400@suncityanthemhikingclub.com
SUMMARY:AZT - Picketpost South (I) - 02Nov2022
DESCRIPTION:Hike Detail Page
URL:https://suncityanthemhikingclub.com/hikes/azt-picketpost-south-i-02nov22/
LOCATION:AZT-Picketpost South\, AZ\, 85132\, United States
CATEGORIES:Hikes,Intermediate Hikes
ORGANIZER;CN="Patrick Dwyer":MAILTO:p_pal_d@yahoo.com
GEO:33.272654;-111.177004
END:VEVENT
BEGIN:VEVENT
DTSTART;TZID=America/Phoenix:20221109T073000
DTEND;TZID=America/Phoenix:20221109T170000
DTSTAMP:20260422T150811
CREATED:20220905T011112Z
LAST-MODIFIED:20220905T123800Z
UID:10001345-1667979000-1668013200@suncityanthemhikingclub.com
SUMMARY:Pima Canyon Trail-Tucson (I) - 09Nov2022
DESCRIPTION:Hike Detail Page
URL:https://suncityanthemhikingclub.com/hikes/pima-canyon-trail-tucson-i-09nov2022/
LOCATION:Pima Canyon Trail (Tucson)\, AZ\, 85132\, United States
CATEGORIES:Hikes,Intermediate Hikes
ORGANIZER;CN="Martha Scott":MAILTO:mascott75@icloud.com
GEO:32.35352;-110.94808
END:VEVENT
BEGIN:VEVENT
DTSTART;TZID=America/Phoenix:20221116T073000
DTEND;TZID=America/Phoenix:20221116T170000
DTSTAMP:20260422T150811
CREATED:20220905T192803Z
LAST-MODIFIED:20220905T193228Z
UID:10001349-1668583800-1668618000@suncityanthemhikingclub.com
SUMMARY:AZT - Hwy 60 North (I) - 16Nov2022
DESCRIPTION:Hike Detail Page
URL:https://suncityanthemhikingclub.com/hikes/azt-hwy-60-north-i-16nov2022/
LOCATION:AZT-Hwy 60 North\, AZ\, 85132\, United States
CATEGORIES:Hikes,Intermediate Hikes
ORGANIZER;CN="Martha Scott":MAILTO:mascott75@icloud.com
GEO:33.28271;-111.17649
END:VEVENT
BEGIN:VEVENT
DTSTART;TZID=America/Phoenix:20221123T083000
DTEND;TZID=America/Phoenix:20221123T170000
DTSTAMP:20260422T150811
CREATED:20221023T222729Z
LAST-MODIFIED:20221023T222933Z
UID:10002029-1669192200-1669222800@suncityanthemhikingclub.com
SUMMARY:Treasure Trail Loop via Jacob's Crosscut (I) - 23Nov2022
DESCRIPTION:Hike Detail Page
URL:https://suncityanthemhikingclub.com/hikes/treasure-trail-loop-via-jacobs-crosscut-i-23nov2022/
LOCATION:Treasure Loop via Jacob’s Crosscut\, AZ\, 85132\, United States
CATEGORIES:Hikes,Intermediate Hikes
ORGANIZER;CN="Greg Waterman":MAILTO:gregh2oman@gmail.com
GEO:33.47116;-111.469968
END:VEVENT
BEGIN:VEVENT
DTSTART;TZID=America/Phoenix:20221130T073000
DTEND;TZID=America/Phoenix:20221130T170000
DTSTAMP:20260422T150811
CREATED:20221110T194957Z
LAST-MODIFIED:20221110T194957Z
UID:10002032-1669793400-1669827600@suncityanthemhikingclub.com
SUMMARY:Willow Springs Basin via Bulldog Canyon (I) - 30Nov2022
DESCRIPTION:Hike Detail Page
URL:https://suncityanthemhikingclub.com/hikes/willow-springs-basin-via-bulldog-canyon-i-30nov2022/
LOCATION:Willow Springs Basin via Bulldog Canyon\, AZ\, 85132\, United States
CATEGORIES:Hikes,Intermediate Hikes
GEO:33.50114;-111.46274
END:VEVENT
END:VCALENDAR