BEGIN:VCALENDAR
VERSION:2.0
PRODID:-//SUN CITY ANTHEM HIKING CLUB - ECPv6.15.15//NONSGML v1.0//EN
CALSCALE:GREGORIAN
METHOD:PUBLISH
X-ORIGINAL-URL:https://suncityanthemhikingclub.com
X-WR-CALDESC:Events for SUN CITY ANTHEM HIKING CLUB
REFRESH-INTERVAL;VALUE=DURATION:PT1H
X-Robots-Tag:noindex
X-PUBLISHED-TTL:PT1H
BEGIN:VTIMEZONE
TZID:America/Phoenix
BEGIN:STANDARD
TZOFFSETFROM:-0700
TZOFFSETTO:-0700
TZNAME:MST
DTSTART:20240101T000000
END:STANDARD
END:VTIMEZONE
BEGIN:VEVENT
DTSTART;TZID=America/Phoenix:20250101T074500
DTEND;TZID=America/Phoenix:20250101T170000
DTSTAMP:20260421T020755
CREATED:20240308T202138Z
LAST-MODIFIED:20240308T202310Z
UID:10002260-1735717500-1735750800@suncityanthemhikingclub.com
SUMMARY:Desperado Trail (S-CI) - 01Jan2025
DESCRIPTION:Hike Detail Page
URL:https://suncityanthemhikingclub.com/hikes/desperado-trail-s-ci-01jan2025/
LOCATION:Peralta Regional Park\, AZ\, 85132\, United States
CATEGORIES:Casual Intermediate Hikes,Hikes,Short Hikes
ORGANIZER;CN="Bill Scott":MAILTO:clscott00@hotmail.com
GEO:33..647222;-111.370833
END:VEVENT
BEGIN:VEVENT
DTSTART;TZID=America/Phoenix:20250108T074500
DTEND;TZID=America/Phoenix:20250108T170000
DTSTAMP:20260421T020755
CREATED:20240308T203043Z
LAST-MODIFIED:20240308T203043Z
UID:10002262-1736322300-1736355600@suncityanthemhikingclub.com
SUMMARY:Casa Grande Mtn Park (CI) - 08Jan2025
DESCRIPTION:Hike Detail Page
URL:https://suncityanthemhikingclub.com/hikes/casa-grande-mtn-park-ci-08jan2025/
LOCATION:Casa Grande Mountain Park\, AZ\, 85132\, United States
CATEGORIES:Casual Intermediate Hikes,Hikes
GEO:32.83222;-111.711338
END:VEVENT
BEGIN:VEVENT
DTSTART;TZID=America/Phoenix:20250115T074500
DTEND;TZID=America/Phoenix:20250115T170000
DTSTAMP:20260421T020755
CREATED:20241126T182553Z
LAST-MODIFIED:20241126T182553Z
UID:10002307-1736927100-1736960400@suncityanthemhikingclub.com
SUMMARY:Florence Kelvin North to Gila River (CI) - Jan 15\,2025
DESCRIPTION:Hike Detail Page
URL:https://suncityanthemhikingclub.com/hikes/florence-kelvin-north-to-gila-river-ci-jan-152025/
LOCATION:AZT-Kelvin North\, AZ\, 85132\, United States
CATEGORIES:Casual Intermediate Hikes,Hikes
ORGANIZER;CN="Robin Berg":MAILTO:azrobin.berg@gmail.com
GEO:33.106527;-110.979176
END:VEVENT
BEGIN:VEVENT
DTSTART;TZID=America/Phoenix:20250122T074500
DTEND;TZID=America/Phoenix:20250122T170000
DTSTAMP:20260421T020755
CREATED:20241126T184032Z
LAST-MODIFIED:20241126T184032Z
UID:10002311-1737531900-1737565200@suncityanthemhikingclub.com
SUMMARY:Jacobs Crosscut Out & Back South (CI) - Jan 22\,2025
DESCRIPTION:Hike Detail Page
URL:https://suncityanthemhikingclub.com/hikes/jacobs-crosscut-out-back-south-ci-jan-222025/
LOCATION:Jacobs Crosscut Broadway\, AZ\, 85132\, United States
CATEGORIES:Casual Intermediate Hikes,Hikes
ORGANIZER;CN="Chris Manss":MAILTO:chrisbub23@hotmail.com
GEO:33.40797;-111.47662
END:VEVENT
BEGIN:VEVENT
DTSTART;TZID=America/Phoenix:20250129T074500
DTEND;TZID=America/Phoenix:20250129T170000
DTSTAMP:20260421T020755
CREATED:20241126T185643Z
LAST-MODIFIED:20241126T185643Z
UID:10002316-1738136700-1738170000@suncityanthemhikingclub.com
SUMMARY:Big Boulders (CI) - Jan 29\,2025
DESCRIPTION:Hike Detail Page
URL:https://suncityanthemhikingclub.com/hikes/big-boulders-ci-jan-292025/
LOCATION:Big Boulders\, AZ\, 85132\, United States
CATEGORIES:Casual Intermediate Hikes,Hikes
ORGANIZER;CN="Brian Mangold":MAILTO:bcmangold@gmail.com
GEO:32.992429;-111.113019
END:VEVENT
END:VCALENDAR