BEGIN:VCALENDAR
VERSION:2.0
PRODID:-//SUN CITY ANTHEM HIKING CLUB - ECPv6.15.15//NONSGML v1.0//EN
CALSCALE:GREGORIAN
METHOD:PUBLISH
X-ORIGINAL-URL:https://suncityanthemhikingclub.com
X-WR-CALDESC:Events for SUN CITY ANTHEM HIKING CLUB
REFRESH-INTERVAL;VALUE=DURATION:PT1H
X-Robots-Tag:noindex
X-PUBLISHED-TTL:PT1H
BEGIN:VTIMEZONE
TZID:America/Phoenix
BEGIN:STANDARD
TZOFFSETFROM:-0700
TZOFFSETTO:-0700
TZNAME:MST
DTSTART:20230101T000000
END:STANDARD
END:VTIMEZONE
BEGIN:VEVENT
DTSTART;TZID=America/Phoenix:20241204T074500
DTEND;TZID=America/Phoenix:20241204T170000
DTSTAMP:20260425T032023
CREATED:20240307T220037Z
LAST-MODIFIED:20241003T200145Z
UID:10002249-1733298300-1733331600@suncityanthemhikingclub.com
SUMMARY:Dutchman Trail East (CI) - 04Dec2024
DESCRIPTION:Hike Detail Page
URL:https://suncityanthemhikingclub.com/hikes/dutchman-trail-east-ci-04dec2024/
LOCATION:Dutchman Trail East\, AZ\, 85132\, United States
CATEGORIES:Casual Intermediate Hikes
ORGANIZER;CN="Robin Berg":MAILTO:azrobin.berg@gmail.com
GEO:33.397377;-111.34792
END:VEVENT
BEGIN:VEVENT
DTSTART;TZID=America/Phoenix:20241211T074500
DTEND;TZID=America/Phoenix:20241211T170000
DTSTAMP:20260425T032023
CREATED:20240318T182741Z
LAST-MODIFIED:20241114T195710Z
UID:10002266-1733903100-1733936400@suncityanthemhikingclub.com
SUMMARY:Fat Man's Pass (CI) - 11Dec2024
DESCRIPTION:Hike Detail Page
URL:https://suncityanthemhikingclub.com/hikes/fat-mans-pass-ci-11dec2024/
LOCATION:Fat Man Pass\, AZ\, 85132\, United States
CATEGORIES:Casual Intermediate Hikes,Hikes
ORGANIZER;CN="Chris Manss":MAILTO:chrisbub23@hotmail.com
GEO:33.362762;-111.98526
END:VEVENT
BEGIN:VEVENT
DTSTART;TZID=America/Phoenix:20241218T074500
DTEND;TZID=America/Phoenix:20241218T170000
DTSTAMP:20260425T032023
CREATED:20240308T200519Z
LAST-MODIFIED:20240308T200519Z
UID:10002257-1734507900-1734541200@suncityanthemhikingclub.com
SUMMARY:Arnett Canyon - Telegraph Canyon (CI) - 18Dec2024
DESCRIPTION:Hike Detail Page
URL:https://suncityanthemhikingclub.com/hikes/arnett-canyon-telegraph-canyon-ci-18dec2024/
LOCATION:Arnett Canyon\, AZ\, 85132\, United States
CATEGORIES:Casual Intermediate Hikes,Hikes
GEO:33.272654;-111.177004
END:VEVENT
END:VCALENDAR