BEGIN:VCALENDAR
VERSION:2.0
PRODID:-//SUN CITY ANTHEM HIKING CLUB - ECPv6.15.15//NONSGML v1.0//EN
CALSCALE:GREGORIAN
METHOD:PUBLISH
X-ORIGINAL-URL:https://suncityanthemhikingclub.com
X-WR-CALDESC:Events for SUN CITY ANTHEM HIKING CLUB
REFRESH-INTERVAL;VALUE=DURATION:PT1H
X-Robots-Tag:noindex
X-PUBLISHED-TTL:PT1H
BEGIN:VTIMEZONE
TZID:America/Phoenix
BEGIN:STANDARD
TZOFFSETFROM:-0700
TZOFFSETTO:-0700
TZNAME:MST
DTSTART:20230101T000000
END:STANDARD
END:VTIMEZONE
BEGIN:VEVENT
DTSTART;TZID=America/Phoenix:20241106T074500
DTEND;TZID=America/Phoenix:20241106T170000
DTSTAMP:20260425T050616
CREATED:20240307T205207Z
LAST-MODIFIED:20240307T205207Z
UID:10002236-1730879100-1730912400@suncityanthemhikingclub.com
SUMMARY:AZT - Florence Kelvin Rd South (CI) - 06Nov2024
DESCRIPTION:Hike Detail Page
URL:https://suncityanthemhikingclub.com/hikes/azt-florence-kelvin-rd-south-ci-06nov2024/
LOCATION:AZT-Kelvin South\, AZ\, 85132\, United States
CATEGORIES:Casual Intermediate Hikes,Hikes
GEO:33.0893;-110.98989
END:VEVENT
BEGIN:VEVENT
DTSTART;TZID=America/Phoenix:20241113T074500
DTEND;TZID=America/Phoenix:20241113T170000
DTSTAMP:20260425T050616
CREATED:20240307T211701Z
LAST-MODIFIED:20241003T200049Z
UID:10002240-1731483900-1731517200@suncityanthemhikingclub.com
SUMMARY:AZT - Picketpost South (CI) - 13Nov2024
DESCRIPTION:Hike Detail Page
URL:https://suncityanthemhikingclub.com/hikes/azt-picketpost-south-ci-13nov2024/
LOCATION:AZT-Picketpost South\, AZ\, 85132\, United States
CATEGORIES:Casual Intermediate Hikes,Hikes
ORGANIZER;CN="Greg Waterman":MAILTO:gregh2oman@gmail.com
GEO:33.272654;-111.177004
END:VEVENT
BEGIN:VEVENT
DTSTART;TZID=America/Phoenix:20241120T074500
DTEND;TZID=America/Phoenix:20241120T170000
DTSTAMP:20260425T050616
CREATED:20240307T213156Z
LAST-MODIFIED:20240307T213156Z
UID:10002244-1732088700-1732122000@suncityanthemhikingclub.com
SUMMARY:Hieroglyphic Trail (CI) - 20Nov2024
DESCRIPTION:Hike Detail Page
URL:https://suncityanthemhikingclub.com/hikes/hieroglyphic-trail-ci-20nov2024/
LOCATION:Hieroglyphic Trail Head\, AZ\, 85132\, United States
CATEGORIES:Casual Intermediate Hikes,Hikes
ORGANIZER;CN="Brian Mangold":MAILTO:bcmangold@gmail.com
GEO:33.389745;-111.424699
END:VEVENT
BEGIN:VEVENT
DTSTART;TZID=America/Phoenix:20241127T080000
DTEND;TZID=America/Phoenix:20241127T170000
DTSTAMP:20260425T050616
CREATED:20241105T180454Z
LAST-MODIFIED:20241105T180454Z
UID:10002288-1732694400-1732726800@suncityanthemhikingclub.com
SUMMARY:Lost Goldmine Trail East (CI) - Nov 27\,2024
DESCRIPTION:Hike Detail Page
URL:https://suncityanthemhikingclub.com/hikes/lost-goldmine-trail-east-ci-nov-272024/
LOCATION:Lost Goldmine East\, AZ\, 85132\, United States
CATEGORIES:Casual Intermediate Hikes,Hikes
ORGANIZER;CN="Greg Waterman":MAILTO:gregh2oman@gmail.com
GEO:33.392228;-111.353665
END:VEVENT
END:VCALENDAR