BEGIN:VCALENDAR
VERSION:2.0
PRODID:-//SUN CITY ANTHEM HIKING CLUB - ECPv6.15.15//NONSGML v1.0//EN
CALSCALE:GREGORIAN
METHOD:PUBLISH
X-WR-CALNAME:SUN CITY ANTHEM HIKING CLUB
X-ORIGINAL-URL:https://suncityanthemhikingclub.com
X-WR-CALDESC:Events for SUN CITY ANTHEM HIKING CLUB
REFRESH-INTERVAL;VALUE=DURATION:PT1H
X-Robots-Tag:noindex
X-PUBLISHED-TTL:PT1H
BEGIN:VTIMEZONE
TZID:America/Phoenix
BEGIN:STANDARD
TZOFFSETFROM:-0700
TZOFFSETTO:-0700
TZNAME:MST
DTSTART:20250101T000000
END:STANDARD
END:VTIMEZONE
BEGIN:VEVENT
DTSTART;TZID=America/Phoenix:20260204T070000
DTEND;TZID=America/Phoenix:20260204T170000
DTSTAMP:20260421T035352
CREATED:20251114T214548Z
LAST-MODIFIED:20251206T204721Z
UID:10002442-1770188400-1770224400@suncityanthemhikingclub.com
SUMMARY:Superstition Ridge via Hieroglyphics Trail (A) - Feb. 4\,2026
DESCRIPTION:Hike Detail Page
URL:https://suncityanthemhikingclub.com/hikes/superstition-ridge-via-hieroglyphics-trail-a-feb-112026/
LOCATION:Hieroglyphic Trail Head\, AZ\, 85132\, United States
CATEGORIES:Advanced Hikes
ORGANIZER;CN="Chuck Boxrucker":MAILTO:boxsplace@yahoo.com
GEO:33.389745;-111.424699
END:VEVENT
END:VCALENDAR