BEGIN:VCALENDAR
VERSION:2.0
PRODID:-//SUN CITY ANTHEM HIKING CLUB - ECPv6.15.15//NONSGML v1.0//EN
CALSCALE:GREGORIAN
METHOD:PUBLISH
X-ORIGINAL-URL:https://suncityanthemhikingclub.com
X-WR-CALDESC:Events for SUN CITY ANTHEM HIKING CLUB
REFRESH-INTERVAL;VALUE=DURATION:PT1H
X-Robots-Tag:noindex
X-PUBLISHED-TTL:PT1H
BEGIN:VTIMEZONE
TZID:America/Phoenix
BEGIN:STANDARD
TZOFFSETFROM:-0700
TZOFFSETTO:-0700
TZNAME:MST
DTSTART:20240101T000000
END:STANDARD
END:VTIMEZONE
BEGIN:VEVENT
DTSTART;TZID=America/Phoenix:20251119T070000
DTEND;TZID=America/Phoenix:20251119T170000
DTSTAMP:20260421T084400
CREATED:20250215T203033Z
LAST-MODIFIED:20250215T203033Z
UID:10002385-1763535600-1763571600@suncityanthemhikingclub.com
SUMMARY:Weaver Needle Loop (A) - Nov 19\,2025
DESCRIPTION:Hike Detail Page
URL:https://suncityanthemhikingclub.com/hikes/weaver-needle-loop-a-nov-192025/
LOCATION:Weaver’s Needle
CATEGORIES:Advanced Hikes
ORGANIZER;CN="Chase Caldwell":MAILTO:chasecaldwellrealtor@gmail.com
END:VEVENT
END:VCALENDAR