BEGIN:VCALENDAR
VERSION:2.0
PRODID:-//SUN CITY ANTHEM HIKING CLUB - ECPv6.15.15//NONSGML v1.0//EN
CALSCALE:GREGORIAN
METHOD:PUBLISH
X-ORIGINAL-URL:https://suncityanthemhikingclub.com
X-WR-CALDESC:Events for SUN CITY ANTHEM HIKING CLUB
REFRESH-INTERVAL;VALUE=DURATION:PT1H
X-Robots-Tag:noindex
X-PUBLISHED-TTL:PT1H
BEGIN:VTIMEZONE
TZID:America/Phoenix
BEGIN:STANDARD
TZOFFSETFROM:-0700
TZOFFSETTO:-0700
TZNAME:MST
DTSTART:20230101T000000
END:STANDARD
END:VTIMEZONE
BEGIN:VEVENT
DTSTART;TZID=America/Phoenix:20240205T150000
DTEND;TZID=America/Phoenix:20240205T170000
DTSTAMP:20260420T003455
CREATED:20230224T213049Z
LAST-MODIFIED:20230414T203819Z
UID:10002110-1707145200-1707152400@suncityanthemhikingclub.com
SUMMARY:General Membership Meeting - 2024Feb05
DESCRIPTION:
URL:https://suncityanthemhikingclub.com/hikes/general-membership-meeting-05-02-2024/
LOCATION:Union Center Ballroom\, AZ\, 85132\, United States
CATEGORIES:General Club Meeting,Meetings
END:VEVENT
END:VCALENDAR