BEGIN:VCALENDAR
VERSION:2.0
PRODID:-//SUN CITY ANTHEM HIKING CLUB - ECPv6.15.15//NONSGML v1.0//EN
CALSCALE:GREGORIAN
METHOD:PUBLISH
X-ORIGINAL-URL:https://suncityanthemhikingclub.com
X-WR-CALDESC:Events for SUN CITY ANTHEM HIKING CLUB
REFRESH-INTERVAL;VALUE=DURATION:PT1H
X-Robots-Tag:noindex
X-PUBLISHED-TTL:PT1H
BEGIN:VTIMEZONE
TZID:America/Phoenix
BEGIN:STANDARD
TZOFFSETFROM:-0700
TZOFFSETTO:-0700
TZNAME:MST
DTSTART:20220101T000000
END:STANDARD
END:VTIMEZONE
BEGIN:VEVENT
DTSTART;TZID=America/Phoenix:20230327T173000
DTEND;TZID=America/Phoenix:20230327T180000
DTSTAMP:20260422T133344
CREATED:20220905T220637Z
LAST-MODIFIED:20230324T002705Z
UID:10001383-1679938200-1679940000@suncityanthemhikingclub.com
SUMMARY:General Membership Meeting - 27Mar2023
DESCRIPTION:
URL:https://suncityanthemhikingclub.com/hikes/general-membership-meeting-27mar2023/
LOCATION:Union Center Ballroom\, AZ\, 85132\, United States
CATEGORIES:General Club Meeting
END:VEVENT
BEGIN:VEVENT
DTSTART;TZID=America/Phoenix:20230327T180000
DTEND;TZID=America/Phoenix:20230327T200000
DTSTAMP:20260422T133344
CREATED:20230306T173839Z
LAST-MODIFIED:20230324T002517Z
UID:10002119-1679940000-1679947200@suncityanthemhikingclub.com
SUMMARY:Hiking Club End of Season Social Event - 27Mar2023
DESCRIPTION:This sign up is for the Hiking Club’s End of Season Social scheduled for after our General Membership meeting on March 27th (for you and your guests) . \nPre-registration is required to help the organizers know how many are planning to attend. \nGuests (non-hiking club members) are welcome to join us. Please indicate how many people you will be bringing. \nDon’t forget to bring an appetizer to share with your fellow hikers – enough to serve about 6 people. \nClick the “Register” button above to tell us if you plan to attend. We are looking forward to seeing you there. \nThank you!!
URL:https://suncityanthemhikingclub.com/hikes/hiking-club-end-of-season-social-event-27mar2023/
LOCATION:Union Center Ballroom\, AZ\, 85132\, United States
CATEGORIES:General Club Meeting,Social Event
ORGANIZER;CN="Susan Dona":MAILTO:sedona549@gmail.com
END:VEVENT
END:VCALENDAR