BEGIN:VCALENDAR
VERSION:2.0
PRODID:-//SUN CITY ANTHEM HIKING CLUB - ECPv6.15.15//NONSGML v1.0//EN
CALSCALE:GREGORIAN
METHOD:PUBLISH
X-ORIGINAL-URL:https://suncityanthemhikingclub.com
X-WR-CALDESC:Events for SUN CITY ANTHEM HIKING CLUB
REFRESH-INTERVAL;VALUE=DURATION:PT1H
X-Robots-Tag:noindex
X-PUBLISHED-TTL:PT1H
BEGIN:VTIMEZONE
TZID:America/Phoenix
BEGIN:STANDARD
TZOFFSETFROM:-0700
TZOFFSETTO:-0700
TZNAME:MST
DTSTART:20210101T000000
END:STANDARD
END:VTIMEZONE
BEGIN:VEVENT
DTSTART;TZID=America/Phoenix:20221205T183000
DTEND;TZID=America/Phoenix:20221205T193000
DTSTAMP:20260422T183258
CREATED:20220905T213614Z
LAST-MODIFIED:20220916T201524Z
UID:10001375-1670265000-1670268600@suncityanthemhikingclub.com
SUMMARY:General Membership Meeting - 05Dec2022
DESCRIPTION:
URL:https://suncityanthemhikingclub.com/hikes/general-membership-meeting-05dec2022/
LOCATION:AZ\, 85132\, United States
CATEGORIES:General Club Meeting
END:VEVENT
END:VCALENDAR