BEGIN:VCALENDAR
VERSION:2.0
PRODID:-//SUN CITY ANTHEM HIKING CLUB - ECPv6.15.15//NONSGML v1.0//EN
CALSCALE:GREGORIAN
METHOD:PUBLISH
X-ORIGINAL-URL:https://suncityanthemhikingclub.com
X-WR-CALDESC:Events for SUN CITY ANTHEM HIKING CLUB
REFRESH-INTERVAL;VALUE=DURATION:PT1H
X-Robots-Tag:noindex
X-PUBLISHED-TTL:PT1H
BEGIN:VTIMEZONE
TZID:America/Phoenix
BEGIN:STANDARD
TZOFFSETFROM:-0700
TZOFFSETTO:-0700
TZNAME:MST
DTSTART:20230101T000000
END:STANDARD
END:VTIMEZONE
BEGIN:VEVENT
DTSTART;TZID=America/Phoenix:20240408T160000
DTEND;TZID=America/Phoenix:20240408T180000
DTSTAMP:20260419T115327
CREATED:20230224T213457Z
LAST-MODIFIED:20240222T193057Z
UID:10002113-1712592000-1712599200@suncityanthemhikingclub.com
SUMMARY:Board Meeting - 08Apr2024
DESCRIPTION:
URL:https://suncityanthemhikingclub.com/hikes/board-meeting-18-03-2024/
LOCATION:AZ
CATEGORIES:Exec and Steering,Meetings
END:VEVENT
END:VCALENDAR