BEGIN:VCALENDAR
VERSION:2.0
PRODID:-//SUN CITY ANTHEM HIKING CLUB - ECPv6.15.15//NONSGML v1.0//EN
CALSCALE:GREGORIAN
METHOD:PUBLISH
X-WR-CALNAME:SUN CITY ANTHEM HIKING CLUB
X-ORIGINAL-URL:https://suncityanthemhikingclub.com
X-WR-CALDESC:Events for SUN CITY ANTHEM HIKING CLUB
REFRESH-INTERVAL;VALUE=DURATION:PT1H
X-Robots-Tag:noindex
X-PUBLISHED-TTL:PT1H
BEGIN:VTIMEZONE
TZID:America/Phoenix
BEGIN:STANDARD
TZOFFSETFROM:-0700
TZOFFSETTO:-0700
TZNAME:MST
DTSTART:20220101T000000
END:STANDARD
END:VTIMEZONE
BEGIN:VEVENT
DTSTART;TZID=America/Phoenix:20231113T090000
DTEND;TZID=America/Phoenix:20231113T110000
DTSTAMP:20260419T203425
CREATED:20230224T204229Z
LAST-MODIFIED:20230224T211803Z
UID:10002102-1699866000-1699873200@suncityanthemhikingclub.com
SUMMARY:Hike Coordinator's Meeting
DESCRIPTION:
URL:https://suncityanthemhikingclub.com/hikes/hike-coordinators-meeting/
LOCATION:AZ\, 85132\, United States
CATEGORIES:Exec and Steering,Meetings
END:VEVENT
BEGIN:VEVENT
DTSTART;TZID=America/Phoenix:20231116T160000
DTEND;TZID=America/Phoenix:20231116T183000
DTSTAMP:20260419T203425
CREATED:20230224T204403Z
LAST-MODIFIED:20230224T204403Z
UID:10002103-1700150400-1700159400@suncityanthemhikingclub.com
SUMMARY:Hike Leader Meeting
DESCRIPTION:
URL:https://suncityanthemhikingclub.com/hikes/hike-leader-meeting/
LOCATION:Union Center Ballroom\, AZ\, 85132\, United States
CATEGORIES:Exec and Steering,Meetings
END:VEVENT
BEGIN:VEVENT
DTSTART;TZID=America/Phoenix:20231120T150000
DTEND;TZID=America/Phoenix:20231120T170000
DTSTAMP:20260419T203425
CREATED:20230224T204508Z
LAST-MODIFIED:20230224T204508Z
UID:10002104-1700492400-1700499600@suncityanthemhikingclub.com
SUMMARY:Board Meeting
DESCRIPTION:
URL:https://suncityanthemhikingclub.com/hikes/board-meeting/
LOCATION:AZ\, 85132\, United States
CATEGORIES:Exec and Steering,Meetings
END:VEVENT
END:VCALENDAR